BEGIN:VCALENDAR
VERSION:2.0
PRODID:-//Paroisses de Pont Scorff - ECPv6.6.3//NONSGML v1.0//EN
CALSCALE:GREGORIAN
METHOD:PUBLISH
X-WR-CALNAME:Paroisses de Pont Scorff
X-ORIGINAL-URL:https://pont-scorff-paroisses.fr
X-WR-CALDESC:évènements pour Paroisses de Pont Scorff
REFRESH-INTERVAL;VALUE=DURATION:PT1H
X-Robots-Tag:noindex
X-PUBLISHED-TTL:PT1H
BEGIN:VTIMEZONE
TZID:Europe/Paris
BEGIN:DAYLIGHT
TZOFFSETFROM:+0100
TZOFFSETTO:+0200
TZNAME:CEST
DTSTART:20180325T010000
END:DAYLIGHT
BEGIN:STANDARD
TZOFFSETFROM:+0200
TZOFFSETTO:+0100
TZNAME:CET
DTSTART:20181028T010000
END:STANDARD
END:VTIMEZONE
BEGIN:VEVENT
DTSTART;VALUE=DATE:20181101
DTEND;VALUE=DATE:20181102
DTSTAMP:20260423T221621
CREATED:20180608T095646Z
LAST-MODIFIED:20181005T104106Z
UID:2923-1541030400-1541116799@pont-scorff-paroisses.fr
SUMMARY:Messe de la Toussaint à 10h30 à Pont Scorff suivie d'une prière au cimetière vers 11h30
DESCRIPTION:
URL:https://pont-scorff-paroisses.fr/evenement/messe-de-la-toussaint-a-10h30-a-pont-scorff/
CATEGORIES:Célébrations,Evènement accueil
ATTACH;FMTTYPE=image/jpeg:https://pont-scorff-paroisses.fr/wp-content/uploads/2017/01/horloge.jpg
END:VEVENT
BEGIN:VEVENT
DTSTART;VALUE=DATE:20181101
DTEND;VALUE=DATE:20181102
DTSTAMP:20260423T221621
CREATED:20181005T102845Z
LAST-MODIFIED:20181005T103519Z
UID:3136-1541030400-1541116799@pont-scorff-paroisses.fr
SUMMARY:Célébration des défunts  à 14h30 à Cléguer suivie d'une prière au cimetière vers 15h15
DESCRIPTION:
URL:https://pont-scorff-paroisses.fr/evenement/celebration-des-defunts-a-14h30-a-cleguer-suivie-dune-priere-au-cimetiere-vers-15h15/
CATEGORIES:Célébrations,Evènement accueil
ATTACH;FMTTYPE=image/jpeg:https://pont-scorff-paroisses.fr/wp-content/uploads/2017/01/horloge.jpg
END:VEVENT
END:VCALENDAR