BEGIN:VCALENDAR
VERSION:2.0
PRODID:-//Paroisses de Pont Scorff - ECPv6.6.3//NONSGML v1.0//EN
CALSCALE:GREGORIAN
METHOD:PUBLISH
X-ORIGINAL-URL:https://pont-scorff-paroisses.fr
X-WR-CALDESC:évènements pour Paroisses de Pont Scorff
REFRESH-INTERVAL;VALUE=DURATION:PT1H
X-Robots-Tag:noindex
X-PUBLISHED-TTL:PT1H
BEGIN:VTIMEZONE
TZID:Europe/Paris
BEGIN:DAYLIGHT
TZOFFSETFROM:+0100
TZOFFSETTO:+0200
TZNAME:CEST
DTSTART:20220327T010000
END:DAYLIGHT
BEGIN:STANDARD
TZOFFSETFROM:+0200
TZOFFSETTO:+0100
TZNAME:CET
DTSTART:20221030T010000
END:STANDARD
END:VTIMEZONE
BEGIN:VEVENT
DTSTART;VALUE=DATE:20220306
DTEND;VALUE=DATE:20220307
DTSTAMP:20260419T214318
CREATED:20220204T091213Z
LAST-MODIFIED:20220304T210522Z
UID:10302-1646524800-1646611199@pont-scorff-paroisses.fr
SUMMARY:Pardon de Saint-Aubin : Messe à 10h30 à la chapelle de Lesbin en Pont-Scorff
DESCRIPTION:Pour accéder à la diffusion de la messe\, cliquer sur le lien ci-dessous (à partir de 10h15) : \nhttps://youtu.be/BGZkPo4AcMw\nil est nécessaire de s’abonner à la chaîne JM H (abonnement gratuit).\nNous pouvons relancer la diffusion en quelques minutes\nmais nous ne pouvons pas mettre sur ce site un nouveau lien. \nLa messe peut être également regardée en différé (replay).
URL:https://pont-scorff-paroisses.fr/evenement/pardon-de-saint-aubin-messe-a-10h30-a-la-chapelle-de-lesbin-en-pont-scorff-3/
CATEGORIES:Célébrations,Evènement accueil
ATTACH;FMTTYPE=image/jpeg:https://pont-scorff-paroisses.fr/wp-content/uploads/2022/02/DSC01282.jpg
END:VEVENT
END:VCALENDAR