BEGIN:VCALENDAR
VERSION:2.0
PRODID:-//Paroisses de Pont Scorff - ECPv6.6.3//NONSGML v1.0//EN
CALSCALE:GREGORIAN
METHOD:PUBLISH
X-ORIGINAL-URL:https://pont-scorff-paroisses.fr
X-WR-CALDESC:évènements pour Paroisses de Pont Scorff
REFRESH-INTERVAL;VALUE=DURATION:PT1H
X-Robots-Tag:noindex
X-PUBLISHED-TTL:PT1H
BEGIN:VTIMEZONE
TZID:Europe/Paris
BEGIN:DAYLIGHT
TZOFFSETFROM:+0100
TZOFFSETTO:+0200
TZNAME:CEST
DTSTART:20220327T010000
END:DAYLIGHT
BEGIN:STANDARD
TZOFFSETFROM:+0200
TZOFFSETTO:+0100
TZNAME:CET
DTSTART:20221030T010000
END:STANDARD
END:VTIMEZONE
BEGIN:VEVENT
DTSTART;VALUE=DATE:20220612
DTEND;VALUE=DATE:20220613
DTSTAMP:20260420T044325
CREATED:20220607T072456Z
LAST-MODIFIED:20220609T111442Z
UID:10542-1654992000-1655078399@pont-scorff-paroisses.fr
SUMMARY:Messe du Pardon de Saint-Etienne à 11h00 à la chapelle Saint-Etienne en Cléguer (diffusée sur YouTube\, sous réserve)
DESCRIPTION:ATTENTION : exceptionnellement\, messe à 11h00.\nNous ne pouvons pas garantir la diffusion en direct de cette messe.\nCela dépendra de la qualité du réseau téléphonique.\nPour accéder à la diffusion de la messe\, cliquer sur le lien ci-dessous (à partir de 10h15) : \nhttps://youtu.be/8dpRszSauFU\nPour avoir une reprise du visionnement en cas d’interruption de diffusion\,\nil est nécessaire de s’abonner à la chaîne JM H (abonnement gratuit).\nNous pouvons relancer la diffusion en quelques minutes\nmais nous ne pouvons pas mettre sur ce site un nouveau lien. \nLa messe peut être également regardée en différé (replay).
URL:https://pont-scorff-paroisses.fr/evenement/messe-du-pardon-de-saint-etienne-a-11h00-a-la-chapelle-saint-etienne-en-cleguer-diffusee-sur-youtube-sous-reserve/
CATEGORIES:Célébrations,Evènement accueil
ATTACH;FMTTYPE=image/jpeg:https://pont-scorff-paroisses.fr/wp-content/uploads/2021/06/St-E-11.jpg
END:VEVENT
END:VCALENDAR