BEGIN:VCALENDAR
VERSION:2.0
PRODID:-//Paroisses de Pont Scorff - ECPv6.6.3//NONSGML v1.0//EN
CALSCALE:GREGORIAN
METHOD:PUBLISH
X-WR-CALNAME:Paroisses de Pont Scorff
X-ORIGINAL-URL:https://pont-scorff-paroisses.fr
X-WR-CALDESC:évènements pour Paroisses de Pont Scorff
REFRESH-INTERVAL;VALUE=DURATION:PT1H
X-Robots-Tag:noindex
X-PUBLISHED-TTL:PT1H
BEGIN:VTIMEZONE
TZID:Europe/Paris
BEGIN:DAYLIGHT
TZOFFSETFROM:+0100
TZOFFSETTO:+0200
TZNAME:CEST
DTSTART:20220327T010000
END:DAYLIGHT
BEGIN:STANDARD
TZOFFSETFROM:+0200
TZOFFSETTO:+0100
TZNAME:CET
DTSTART:20221030T010000
END:STANDARD
END:VTIMEZONE
BEGIN:VEVENT
DTSTART;TZID=Europe/Paris:20220625T080000
DTEND;TZID=Europe/Paris:20220625T170000
DTSTAMP:20260419T145729
CREATED:20220607T073011Z
LAST-MODIFIED:20220607T074239Z
UID:10546-1656144000-1656176400@pont-scorff-paroisses.fr
SUMMARY:Messe du Pardon de Saint-Pierre à 18h00 à la chapelle du Bas-Pont-Scorff (diffusée sur YouTube le dimanche 26 à 10h30)
DESCRIPTION:
URL:https://pont-scorff-paroisses.fr/evenement/messe-du-pardon-de-saint-pierre-a-18h00-a-la-chapelle-du-bas-pont-scorff/
CATEGORIES:Célébrations,Evènement accueil
ATTACH;FMTTYPE=image/jpeg:https://pont-scorff-paroisses.fr/wp-content/uploads/2020/06/Chapelle-allégé.jpg
END:VEVENT
END:VCALENDAR