BEGIN:VCALENDAR
VERSION:2.0
PRODID:-//Paroisses de Pont Scorff - ECPv6.6.3//NONSGML v1.0//EN
CALSCALE:GREGORIAN
METHOD:PUBLISH
X-WR-CALNAME:Paroisses de Pont Scorff
X-ORIGINAL-URL:https://pont-scorff-paroisses.fr
X-WR-CALDESC:évènements pour Paroisses de Pont Scorff
REFRESH-INTERVAL;VALUE=DURATION:PT1H
X-Robots-Tag:noindex
X-PUBLISHED-TTL:PT1H
BEGIN:VTIMEZONE
TZID:Europe/Paris
BEGIN:DAYLIGHT
TZOFFSETFROM:+0100
TZOFFSETTO:+0200
TZNAME:CEST
DTSTART:20170326T010000
END:DAYLIGHT
BEGIN:STANDARD
TZOFFSETFROM:+0200
TZOFFSETTO:+0100
TZNAME:CET
DTSTART:20171029T010000
END:STANDARD
END:VTIMEZONE
BEGIN:VEVENT
DTSTART;VALUE=DATE:20171101
DTEND;VALUE=DATE:20171102
DTSTAMP:20260423T180423
CREATED:20171028T091046Z
LAST-MODIFIED:20171028T092338Z
UID:2077-1509494400-1509580799@pont-scorff-paroisses.fr
SUMMARY:Fête de la Toussaint
DESCRIPTION:Mercredi 1er novembre :\nMesse de la Toussaint à Cléguer à 10h30\, \nsuivie d’une prière au cimetière vers 11h30-11h45 \nCélébration pour les défunts à Pont-Scorff à 14h30\,  \nsuivie d’une prière au cimetière de Lesbin vers 15h15-15h30
URL:https://pont-scorff-paroisses.fr/evenement/fete-de-la-toussaint/
CATEGORIES:Evènement accueil
ATTACH;FMTTYPE=image/jpeg:https://pont-scorff-paroisses.fr/wp-content/uploads/2017/01/971.jpg
END:VEVENT
BEGIN:VEVENT
DTSTART;VALUE=DATE:20171102
DTEND;VALUE=DATE:20171103
DTSTAMP:20260423T180423
CREATED:20171028T092606Z
LAST-MODIFIED:20171028T092642Z
UID:2087-1509580800-1509667199@pont-scorff-paroisses.fr
SUMMARY:Commémoration de tous les fidèles défunts
DESCRIPTION:Jeudi 2 novembre \nMesse pour les défunts \nà 9h00 \nà la chapelle du Bas-Pont-Scorff
URL:https://pont-scorff-paroisses.fr/evenement/commemoration-de-tous-les-fideles-defunts/
CATEGORIES:Evènement accueil
ATTACH;FMTTYPE=image/jpeg:https://pont-scorff-paroisses.fr/wp-content/uploads/2017/01/fond_pave.jpg
END:VEVENT
BEGIN:VEVENT
DTSTART;VALUE=DATE:20171104
DTEND;VALUE=DATE:20171105
DTSTAMP:20260423T180423
CREATED:20171028T094924Z
LAST-MODIFIED:20171028T095044Z
UID:2093-1509753600-1509839999@pont-scorff-paroisses.fr
SUMMARY:Messe dominicale à Quéven à 18h00
DESCRIPTION:Messe à Quéven à 18h00
URL:https://pont-scorff-paroisses.fr/evenement/messe-dominicale-2/
CATEGORIES:Evènement accueil
ATTACH;FMTTYPE=image/jpeg:https://pont-scorff-paroisses.fr/wp-content/uploads/2017/01/horloge.jpg
END:VEVENT
BEGIN:VEVENT
DTSTART;VALUE=DATE:20171105
DTEND;VALUE=DATE:20171106
DTSTAMP:20260423T180423
CREATED:20171028T092950Z
LAST-MODIFIED:20171028T095122Z
UID:2090-1509840000-1509926399@pont-scorff-paroisses.fr
SUMMARY:Messe dominicale à Pont-Scorff à 10h30
DESCRIPTION:Dimanche 5 novembre \nMesse à Pont-Scorff \nà 10h30
URL:https://pont-scorff-paroisses.fr/evenement/messe-dominicale/
CATEGORIES:Evènement accueil
ATTACH;FMTTYPE=image/jpeg:https://pont-scorff-paroisses.fr/wp-content/uploads/2017/01/horloge.jpg
END:VEVENT
BEGIN:VEVENT
DTSTART;VALUE=DATE:20171107
DTEND;VALUE=DATE:20171108
DTSTAMP:20260423T180423
CREATED:20171028T095254Z
LAST-MODIFIED:20171028T095255Z
UID:2097-1510012800-1510099199@pont-scorff-paroisses.fr
SUMMARY:Messe à Quéven à 9h00
DESCRIPTION:
URL:https://pont-scorff-paroisses.fr/evenement/messe-a-queven-a-9h00/
CATEGORIES:Evènement accueil
ATTACH;FMTTYPE=image/jpeg:https://pont-scorff-paroisses.fr/wp-content/uploads/2017/01/horloge.jpg
END:VEVENT
BEGIN:VEVENT
DTSTART;VALUE=DATE:20171108
DTEND;VALUE=DATE:20171109
DTSTAMP:20260423T180423
CREATED:20171028T095346Z
LAST-MODIFIED:20171028T095346Z
UID:2099-1510099200-1510185599@pont-scorff-paroisses.fr
SUMMARY:Messe au Bas-Pont-Scorff à 18h00
DESCRIPTION:
URL:https://pont-scorff-paroisses.fr/evenement/messe-au-bas-pont-scorff-a-18h00/
CATEGORIES:Evènement accueil
ATTACH;FMTTYPE=image/jpeg:https://pont-scorff-paroisses.fr/wp-content/uploads/2017/01/horloge.jpg
END:VEVENT
BEGIN:VEVENT
DTSTART;VALUE=DATE:20171111
DTEND;VALUE=DATE:20171112
DTSTAMP:20260423T180423
CREATED:20171109T174947Z
LAST-MODIFIED:20171109T184128Z
UID:2122-1510358400-1510444799@pont-scorff-paroisses.fr
SUMMARY:Messe des Anciens Combattants à Cléguer à 11h00
DESCRIPTION:
URL:https://pont-scorff-paroisses.fr/evenement/messe-des-anciens-combattants-a-clehuer-a-11h00/
CATEGORIES:Célébrations,Evènement accueil
ATTACH;FMTTYPE=image/jpeg:https://pont-scorff-paroisses.fr/wp-content/uploads/2017/01/horloge.jpg
END:VEVENT
BEGIN:VEVENT
DTSTART;VALUE=DATE:20171111
DTEND;VALUE=DATE:20171112
DTSTAMP:20260423T180423
CREATED:20171028T095450Z
LAST-MODIFIED:20171028T095451Z
UID:2101-1510358400-1510444799@pont-scorff-paroisses.fr
SUMMARY:Messe dominicale à Quéven à 18h00
DESCRIPTION:
URL:https://pont-scorff-paroisses.fr/evenement/messe-dominicale-a-queven-a-18h00/
CATEGORIES:Evènement accueil
ATTACH;FMTTYPE=image/jpeg:https://pont-scorff-paroisses.fr/wp-content/uploads/2017/01/horloge.jpg
END:VEVENT
BEGIN:VEVENT
DTSTART;VALUE=DATE:20171111
DTEND;VALUE=DATE:20171112
DTSTAMP:20260423T180423
CREATED:20171104T080224Z
LAST-MODIFIED:20171109T184051Z
UID:2115-1510358400-1510444799@pont-scorff-paroisses.fr
SUMMARY:Messe des Anciens Combattants à Pont-Scorff à 10h00
DESCRIPTION:
URL:https://pont-scorff-paroisses.fr/evenement/messes-des-anciens-combattants/
CATEGORIES:Célébrations,Evènement accueil
ATTACH;FMTTYPE=image/jpeg:https://pont-scorff-paroisses.fr/wp-content/uploads/2017/01/horloge.jpg
END:VEVENT
BEGIN:VEVENT
DTSTART;VALUE=DATE:20171112
DTEND;VALUE=DATE:20171113
DTSTAMP:20260423T180423
CREATED:20171028T095537Z
LAST-MODIFIED:20171028T095637Z
UID:2104-1510444800-1510531199@pont-scorff-paroisses.fr
SUMMARY:Messe dominicale à Cléguer à 10h30
DESCRIPTION:
URL:https://pont-scorff-paroisses.fr/evenement/messe-dominicale-a-cleguer-a-10h30/
CATEGORIES:Evènement accueil
ATTACH;FMTTYPE=image/jpeg:https://pont-scorff-paroisses.fr/wp-content/uploads/2017/01/horloge.jpg
END:VEVENT
BEGIN:VEVENT
DTSTART;VALUE=DATE:20171114
DTEND;VALUE=DATE:20171115
DTSTAMP:20260423T180423
CREATED:20171109T184417Z
LAST-MODIFIED:20171109T184426Z
UID:2127-1510617600-1510703999@pont-scorff-paroisses.fr
SUMMARY:Messe à Quéven à 9h00
DESCRIPTION:
URL:https://pont-scorff-paroisses.fr/evenement/messe-a-queven-a-9h00-2/
CATEGORIES:Célébrations,Evènement accueil
ATTACH;FMTTYPE=image/jpeg:https://pont-scorff-paroisses.fr/wp-content/uploads/2017/01/horloge.jpg
END:VEVENT
BEGIN:VEVENT
DTSTART;VALUE=DATE:20171115
DTEND;VALUE=DATE:20171116
DTSTAMP:20260423T180423
CREATED:20171109T184533Z
LAST-MODIFIED:20171109T184613Z
UID:2129-1510704000-1510790399@pont-scorff-paroisses.fr
SUMMARY:Messe au Bas-Pont-Scorff à 18h00
DESCRIPTION:
URL:https://pont-scorff-paroisses.fr/evenement/messe-au-bas-pont-scorff-a-18h00-2/
CATEGORIES:Célébrations,Evènement accueil
ATTACH;FMTTYPE=image/jpeg:https://pont-scorff-paroisses.fr/wp-content/uploads/2017/01/horloge.jpg
END:VEVENT
BEGIN:VEVENT
DTSTART;VALUE=DATE:20171118
DTEND;VALUE=DATE:20171119
DTSTAMP:20260423T180423
CREATED:20171115T094021Z
LAST-MODIFIED:20171115T094418Z
UID:2153-1510963200-1511049599@pont-scorff-paroisses.fr
SUMMARY:Messe à Quéven à 18h00
DESCRIPTION:
URL:https://pont-scorff-paroisses.fr/evenement/messe-a-queven-a-18h00/
CATEGORIES:Célébrations,Evènement accueil
ATTACH;FMTTYPE=image/jpeg:https://pont-scorff-paroisses.fr/wp-content/uploads/2017/01/horloge.jpg
END:VEVENT
BEGIN:VEVENT
DTSTART;VALUE=DATE:20171119
DTEND;VALUE=DATE:20171120
DTSTAMP:20260423T180423
CREATED:20171115T094141Z
LAST-MODIFIED:20171115T094252Z
UID:2155-1511049600-1511135999@pont-scorff-paroisses.fr
SUMMARY:Messe à Pont-Scorff à 10h30
DESCRIPTION:Messe à l’intention de Jean-Christophe LE PAGE
URL:https://pont-scorff-paroisses.fr/evenement/messe-a-pont-scorff-a-10h30/
CATEGORIES:Célébrations,Evènement accueil
ATTACH;FMTTYPE=image/jpeg:https://pont-scorff-paroisses.fr/wp-content/uploads/2017/01/horloge.jpg
END:VEVENT
BEGIN:VEVENT
DTSTART;VALUE=DATE:20171121
DTEND;VALUE=DATE:20171122
DTSTAMP:20260423T180423
CREATED:20171115T102721Z
LAST-MODIFIED:20171115T102736Z
UID:2158-1511222400-1511308799@pont-scorff-paroisses.fr
SUMMARY:Messe à Quéven à 9h00
DESCRIPTION:
URL:https://pont-scorff-paroisses.fr/evenement/messe-a-queven-a-9h00-3/
CATEGORIES:Célébrations,Evènement accueil
ATTACH;FMTTYPE=image/jpeg:https://pont-scorff-paroisses.fr/wp-content/uploads/2017/01/horloge.jpg
END:VEVENT
BEGIN:VEVENT
DTSTART;VALUE=DATE:20171122
DTEND;VALUE=DATE:20171123
DTSTAMP:20260423T180423
CREATED:20171115T102900Z
LAST-MODIFIED:20171115T104347Z
UID:2161-1511308800-1511395199@pont-scorff-paroisses.fr
SUMMARY:Messe au Bas-Pont-Scorff à 18h00
DESCRIPTION:Messe à l’intention de Madame Renée DANIEL
URL:https://pont-scorff-paroisses.fr/evenement/messe-au-bas-pont-scorff-a-18h00-3/
CATEGORIES:Célébrations,Evènement accueil
ATTACH;FMTTYPE=image/jpeg:https://pont-scorff-paroisses.fr/wp-content/uploads/2017/01/horloge.jpg
END:VEVENT
BEGIN:VEVENT
DTSTART;VALUE=DATE:20171123
DTEND;VALUE=DATE:20171124
DTSTAMP:20260423T180423
CREATED:20171123T144039Z
LAST-MODIFIED:20171123T144040Z
UID:2199-1511395200-1511481599@pont-scorff-paroisses.fr
SUMMARY:Messe à Quéven à 18h00
DESCRIPTION:
URL:https://pont-scorff-paroisses.fr/evenement/messe-a-queven-a-18h00-5/
CATEGORIES:Célébrations,Evènement accueil
ATTACH;FMTTYPE=image/jpeg:https://pont-scorff-paroisses.fr/wp-content/uploads/2017/01/horloge.jpg
END:VEVENT
BEGIN:VEVENT
DTSTART;VALUE=DATE:20171125
DTEND;VALUE=DATE:20171126
DTSTAMP:20260423T180423
CREATED:20171115T103730Z
LAST-MODIFIED:20171115T103731Z
UID:2170-1511568000-1511654399@pont-scorff-paroisses.fr
SUMMARY:Messe à Quéven à 18h00
DESCRIPTION:
URL:https://pont-scorff-paroisses.fr/evenement/messe-a-queven-a-18h00-2/
CATEGORIES:Célébrations,Evènement accueil
ATTACH;FMTTYPE=image/jpeg:https://pont-scorff-paroisses.fr/wp-content/uploads/2017/01/horloge.jpg
END:VEVENT
BEGIN:VEVENT
DTSTART;TZID=Europe/Paris:20171126T080000
DTEND;TZID=Europe/Paris:20171126T170000
DTSTAMP:20260423T180423
CREATED:20171115T103824Z
LAST-MODIFIED:20171115T103825Z
UID:2172-1511683200-1511715600@pont-scorff-paroisses.fr
SUMMARY:Messe à Cléguer à 10h30
DESCRIPTION:
URL:https://pont-scorff-paroisses.fr/evenement/messe-a-cleguer-a-10h30/
CATEGORIES:Célébrations,Evènement accueil
ATTACH;FMTTYPE=image/jpeg:https://pont-scorff-paroisses.fr/wp-content/uploads/2017/01/horloge.jpg
END:VEVENT
BEGIN:VEVENT
DTSTART;VALUE=DATE:20171128
DTEND;VALUE=DATE:20171129
DTSTAMP:20260423T180423
CREATED:20171115T103946Z
LAST-MODIFIED:20171115T104736Z
UID:2174-1511827200-1511913599@pont-scorff-paroisses.fr
SUMMARY:Messe à Quéven à 9h00
DESCRIPTION:
URL:https://pont-scorff-paroisses.fr/evenement/messe-a-queven-a-18h00-3/
CATEGORIES:Célébrations,Evènement accueil
ATTACH;FMTTYPE=image/jpeg:https://pont-scorff-paroisses.fr/wp-content/uploads/2017/01/horloge.jpg
END:VEVENT
BEGIN:VEVENT
DTSTART;VALUE=DATE:20171129
DTEND;VALUE=DATE:20171130
DTSTAMP:20260423T180423
CREATED:20171115T104055Z
LAST-MODIFIED:20171115T104056Z
UID:2176-1511913600-1511999999@pont-scorff-paroisses.fr
SUMMARY:Messe au Bas-Pont-Scorff à 18h00
DESCRIPTION:
URL:https://pont-scorff-paroisses.fr/evenement/messe-au-bas-pont-scorff-a-18h00-4/
CATEGORIES:Célébrations,Evènement accueil
ATTACH;FMTTYPE=image/jpeg:https://pont-scorff-paroisses.fr/wp-content/uploads/2017/01/horloge.jpg
END:VEVENT
END:VCALENDAR