BEGIN:VCALENDAR
VERSION:2.0
PRODID:-//Paroisses de Pont Scorff - ECPv6.6.3//NONSGML v1.0//EN
CALSCALE:GREGORIAN
METHOD:PUBLISH
X-WR-CALNAME:Paroisses de Pont Scorff
X-ORIGINAL-URL:https://pont-scorff-paroisses.fr
X-WR-CALDESC:évènements pour Paroisses de Pont Scorff
REFRESH-INTERVAL;VALUE=DURATION:PT1H
X-Robots-Tag:noindex
X-PUBLISHED-TTL:PT1H
BEGIN:VTIMEZONE
TZID:Europe/Paris
BEGIN:DAYLIGHT
TZOFFSETFROM:+0100
TZOFFSETTO:+0200
TZNAME:CEST
DTSTART:20170326T010000
END:DAYLIGHT
BEGIN:STANDARD
TZOFFSETFROM:+0200
TZOFFSETTO:+0100
TZNAME:CET
DTSTART:20171029T010000
END:STANDARD
END:VTIMEZONE
BEGIN:VEVENT
DTSTART;VALUE=DATE:20171202
DTEND;VALUE=DATE:20171203
DTSTAMP:20260423T163151
CREATED:20171117T093837Z
LAST-MODIFIED:20171117T093940Z
UID:2184-1512172800-1512259199@pont-scorff-paroisses.fr
SUMMARY:Messe à Quéven à 18h00
DESCRIPTION:
URL:https://pont-scorff-paroisses.fr/evenement/messe-a-queven-a-18h00-4/
CATEGORIES:Célébrations,Evènement accueil
ATTACH;FMTTYPE=image/jpeg:https://pont-scorff-paroisses.fr/wp-content/uploads/2017/01/horloge.jpg
END:VEVENT
BEGIN:VEVENT
DTSTART;VALUE=DATE:20171206
DTEND;VALUE=DATE:20171207
DTSTAMP:20260423T163151
CREATED:20171204T191500Z
LAST-MODIFIED:20171204T191800Z
UID:2218-1512518400-1512604799@pont-scorff-paroisses.fr
SUMMARY:Messe à la chapelle du Bas-Pont-Scorff à 18h00
DESCRIPTION:
URL:https://pont-scorff-paroisses.fr/evenement/messe-a-la-chapelle-du-bas-pont-scorff-a-18h00/
CATEGORIES:Célébrations,Evènement accueil
ATTACH;FMTTYPE=image/jpeg:https://pont-scorff-paroisses.fr/wp-content/uploads/2017/01/horloge.jpg
END:VEVENT
BEGIN:VEVENT
DTSTART;VALUE=DATE:20171209
DTEND;VALUE=DATE:20171210
DTSTAMP:20260423T163151
CREATED:20171204T191930Z
LAST-MODIFIED:20171204T192112Z
UID:2220-1512777600-1512863999@pont-scorff-paroisses.fr
SUMMARY:Messe à Quéven à 18h00
DESCRIPTION:
URL:https://pont-scorff-paroisses.fr/evenement/messe-a-queven-a-18h00-6/
CATEGORIES:Célébrations,Evènement accueil
ATTACH;FMTTYPE=image/jpeg:https://pont-scorff-paroisses.fr/wp-content/uploads/2017/01/horloge.jpg
END:VEVENT
BEGIN:VEVENT
DTSTART;TZID=Europe/Paris:20171209T140000
DTEND;TZID=Europe/Paris:20171210T180000
DTSTAMP:20260423T163151
CREATED:20171204T192810Z
LAST-MODIFIED:20171204T193040Z
UID:2230-1512828000-1512928800@pont-scorff-paroisses.fr
SUMMARY:Crèche vivante au Marché de Noël à Pont-Scorff
DESCRIPTION:
URL:https://pont-scorff-paroisses.fr/evenement/creche-vivante-au-marche-de-noel-a-pont-scorff/
CATEGORIES:Evènement accueil
ATTACH;FMTTYPE=image/jpeg:https://pont-scorff-paroisses.fr/wp-content/uploads/2015/09/mission_image2.jpg
END:VEVENT
BEGIN:VEVENT
DTSTART;VALUE=DATE:20171210
DTEND;VALUE=DATE:20171211
DTSTAMP:20260423T163151
CREATED:20171204T192029Z
LAST-MODIFIED:20171209T065118Z
UID:2222-1512864000-1512950399@pont-scorff-paroisses.fr
SUMMARY:Messe à Cléguer à 10h30
DESCRIPTION:Messe pour Mr Louis GUIGUEN décédé il y a 5 ans\net pour Mr Gérard LE HEN décédé il y a 3 ans\nMesse de huitaine pour Mme Maryse EVANNO dont les obsèques ont eu lieu mardi 28 novembre à Cléguer\nIntention pour Mr Jean LE GRUSSE dont les obsèques ont eu lieu lundi 4 décembre à Pont-Scorff
URL:https://pont-scorff-paroisses.fr/evenement/messe-a-cleguer-a-10h30-2/
CATEGORIES:Célébrations,Evènement accueil
ATTACH;FMTTYPE=image/jpeg:https://pont-scorff-paroisses.fr/wp-content/uploads/2017/01/horloge.jpg
END:VEVENT
BEGIN:VEVENT
DTSTART;VALUE=DATE:20171212
DTEND;VALUE=DATE:20171213
DTSTAMP:20260423T163151
CREATED:20171204T192226Z
LAST-MODIFIED:20171204T192244Z
UID:2224-1513036800-1513123199@pont-scorff-paroisses.fr
SUMMARY:Messe à Quéven à 9h00
DESCRIPTION:
URL:https://pont-scorff-paroisses.fr/evenement/messe-a-queven-a-9h00-4/
CATEGORIES:Célébrations,Evènement accueil
ATTACH;FMTTYPE=image/jpeg:https://pont-scorff-paroisses.fr/wp-content/uploads/2017/01/horloge.jpg
END:VEVENT
BEGIN:VEVENT
DTSTART;VALUE=DATE:20171213
DTEND;VALUE=DATE:20171214
DTSTAMP:20260423T163151
CREATED:20171204T192355Z
LAST-MODIFIED:20171204T192405Z
UID:2226-1513123200-1513209599@pont-scorff-paroisses.fr
SUMMARY:Messe à la chapelle du Bas-Pont-Scorff à 18h00
DESCRIPTION:
URL:https://pont-scorff-paroisses.fr/evenement/messe-a-la-chapelle-du-bas-pont-scorff-a-18h00-2/
CATEGORIES:Célébrations,Evènement accueil
ATTACH;FMTTYPE=image/jpeg:https://pont-scorff-paroisses.fr/wp-content/uploads/2017/01/horloge.jpg
END:VEVENT
BEGIN:VEVENT
DTSTART;VALUE=DATE:20171216
DTEND;VALUE=DATE:20171217
DTSTAMP:20260423T163151
CREATED:20171209T074736Z
LAST-MODIFIED:20171209T075021Z
UID:2258-1513382400-1513468799@pont-scorff-paroisses.fr
SUMMARY:Fête de la lumière à l'occasion de la Sainte-Lucie : marche nocturne de l'église de Pont-Scorff à la chapelle de Lesbin (aller-retour)
DESCRIPTION:De 17h00 à 18h45 environ\, pour fêter la lumière à l’occasion de la Sainte-Lucie\,\nTout le monde est invité à rejoindre les jeunes de la Profession de Foi et de la Confirmation pour une marche nocturne de l’église de Pont-Scorff à la chapelle de Lesbin\, aller-retour.\n17h00 : rassemblement à l’église ; 17h15 : départ ; 17h35 : arrivée à Lesbin ; 18h00 : départ de Lesbin ; 18h15 arrivée à l’église et messe (jusque vers 18h45). \nOn peut participer à l’ensemble de ce rassemblement ou à une partie seulement.
URL:https://pont-scorff-paroisses.fr/evenement/fete-de-la-lumiere-a-loccasion-de-la-sainte-lucie-marche-nocturne-de-leglise-de-pont-scorff-a-la-chapelle-de-lesbin/
CATEGORIES:Evènement accueil
ATTACH;FMTTYPE=image/jpeg:https://pont-scorff-paroisses.fr/wp-content/uploads/2017/01/fond_pave.jpg
END:VEVENT
BEGIN:VEVENT
DTSTART;VALUE=DATE:20171216
DTEND;VALUE=DATE:20171217
DTSTAMP:20260423T163151
CREATED:20171204T192458Z
LAST-MODIFIED:20171204T192506Z
UID:2228-1513382400-1513468799@pont-scorff-paroisses.fr
SUMMARY:Messe à Quéven à 18h00
DESCRIPTION:
URL:https://pont-scorff-paroisses.fr/evenement/messe-a-queven-a-18h00-7/
CATEGORIES:Célébrations,Evènement accueil
ATTACH;FMTTYPE=image/jpeg:https://pont-scorff-paroisses.fr/wp-content/uploads/2017/01/horloge.jpg
END:VEVENT
BEGIN:VEVENT
DTSTART;VALUE=DATE:20171217
DTEND;VALUE=DATE:20171218
DTSTAMP:20260423T163151
CREATED:20171214T155613Z
LAST-MODIFIED:20171214T155620Z
UID:2262-1513468800-1513555199@pont-scorff-paroisses.fr
SUMMARY:Messe à Pont-Scorff à 10h30
DESCRIPTION:
URL:https://pont-scorff-paroisses.fr/evenement/messe-a-pont-scorff-a-10h30-2/
CATEGORIES:Célébrations,Evènement accueil
ATTACH;FMTTYPE=image/jpeg:https://pont-scorff-paroisses.fr/wp-content/uploads/2017/01/horloge.jpg
END:VEVENT
BEGIN:VEVENT
DTSTART;VALUE=DATE:20171219
DTEND;VALUE=DATE:20171220
DTSTAMP:20260423T163151
CREATED:20171214T155929Z
LAST-MODIFIED:20171214T155937Z
UID:2267-1513641600-1513727999@pont-scorff-paroisses.fr
SUMMARY:Messe à Quéven à 9h00
DESCRIPTION:
URL:https://pont-scorff-paroisses.fr/evenement/messe-a-queven-a-9h00-6/
CATEGORIES:Célébrations,Evènement accueil
ATTACH;FMTTYPE=image/jpeg:https://pont-scorff-paroisses.fr/wp-content/uploads/2017/01/horloge.jpg
END:VEVENT
BEGIN:VEVENT
DTSTART;VALUE=DATE:20171220
DTEND;VALUE=DATE:20171221
DTSTAMP:20260423T163151
CREATED:20171214T160044Z
LAST-MODIFIED:20171214T160055Z
UID:2269-1513728000-1513814399@pont-scorff-paroisses.fr
SUMMARY:Célébration pénitentielle à Quéven à 19h00
DESCRIPTION:
URL:https://pont-scorff-paroisses.fr/evenement/celebration-penitentielle-a-queven-a-19h00/
CATEGORIES:Célébrations,Evènement accueil
ATTACH;FMTTYPE=image/jpeg:https://pont-scorff-paroisses.fr/wp-content/uploads/2017/01/horloge.jpg
END:VEVENT
BEGIN:VEVENT
DTSTART;VALUE=DATE:20171220
DTEND;VALUE=DATE:20171221
DTSTAMP:20260423T163151
CREATED:20171214T155718Z
LAST-MODIFIED:20171214T155807Z
UID:2264-1513728000-1513814399@pont-scorff-paroisses.fr
SUMMARY:Messe au Bas-Pont-Scorff à 18h00
DESCRIPTION:
URL:https://pont-scorff-paroisses.fr/evenement/messe-a-queven-a-9h00-5/
CATEGORIES:Célébrations,Evènement accueil
ATTACH;FMTTYPE=image/jpeg:https://pont-scorff-paroisses.fr/wp-content/uploads/2017/01/horloge.jpg
END:VEVENT
BEGIN:VEVENT
DTSTART;TZID=Europe/Paris:20171221T080000
DTEND;TZID=Europe/Paris:20171221T170000
DTSTAMP:20260423T163151
CREATED:20171214T160218Z
LAST-MODIFIED:20171214T160226Z
UID:2272-1513843200-1513875600@pont-scorff-paroisses.fr
SUMMARY:Célébration pénitentielle au Bas-Pont-Scorff à 19h00
DESCRIPTION:
URL:https://pont-scorff-paroisses.fr/evenement/celebration-penitentielle-au-bas-pont-scorff-a-19h00/
CATEGORIES:Célébrations,Evènement accueil
ATTACH;FMTTYPE=image/jpeg:https://pont-scorff-paroisses.fr/wp-content/uploads/2017/01/horloge.jpg
END:VEVENT
BEGIN:VEVENT
DTSTART;VALUE=DATE:20171223
DTEND;VALUE=DATE:20171224
DTSTAMP:20260423T163151
CREATED:20171214T160333Z
LAST-MODIFIED:20171214T160341Z
UID:2274-1513987200-1514073599@pont-scorff-paroisses.fr
SUMMARY:Messe dominicale à Quéven à 18h00
DESCRIPTION:
URL:https://pont-scorff-paroisses.fr/evenement/messe-dominicale-a-queven-a-18h00-2/
CATEGORIES:Célébrations,Evènement accueil
ATTACH;FMTTYPE=image/jpeg:https://pont-scorff-paroisses.fr/wp-content/uploads/2017/01/horloge.jpg
END:VEVENT
BEGIN:VEVENT
DTSTART;VALUE=DATE:20171224
DTEND;VALUE=DATE:20171225
DTSTAMP:20260423T163151
CREATED:20171214T185833Z
LAST-MODIFIED:20171214T185841Z
UID:2278-1514073600-1514159999@pont-scorff-paroisses.fr
SUMMARY:Messe de Noël à Pont-Scorff à 20h00
DESCRIPTION:
URL:https://pont-scorff-paroisses.fr/evenement/messe-de-noel-a-pont-scorff-a-20h00/
CATEGORIES:Célébrations,Evènement accueil
END:VEVENT
BEGIN:VEVENT
DTSTART;VALUE=DATE:20171224
DTEND;VALUE=DATE:20171225
DTSTAMP:20260423T163151
CREATED:20171214T185714Z
LAST-MODIFIED:20171214T190219Z
UID:2276-1514073600-1514159999@pont-scorff-paroisses.fr
SUMMARY:Messe du 4ème dimanche de l'Avent à Cléguer à 10h30
DESCRIPTION:
URL:https://pont-scorff-paroisses.fr/evenement/messe-a-cleguer-a-10h30-3/
CATEGORIES:Célébrations,Evènement accueil
ATTACH;FMTTYPE=image/jpeg:https://pont-scorff-paroisses.fr/wp-content/uploads/2017/01/horloge.jpg
END:VEVENT
BEGIN:VEVENT
DTSTART;VALUE=DATE:20171224
DTEND;VALUE=DATE:20171225
DTSTAMP:20260423T163151
CREATED:20171222T075920Z
LAST-MODIFIED:20171222T080109Z
UID:2319-1514073600-1514159999@pont-scorff-paroisses.fr
SUMMARY:Messe de Noël à 18h00 à Gestel
DESCRIPTION:
URL:https://pont-scorff-paroisses.fr/evenement/messe-de-noel-a-18h00-a-gestel/
CATEGORIES:Célébrations,Evènement accueil
END:VEVENT
BEGIN:VEVENT
DTSTART;VALUE=DATE:20171225
DTEND;VALUE=DATE:20171226
DTSTAMP:20260423T163151
CREATED:20171214T185942Z
LAST-MODIFIED:20171214T185950Z
UID:2280-1514160000-1514246399@pont-scorff-paroisses.fr
SUMMARY:Messe de Noël à Quéven à 10h30 (Pas de messe à Cléguer)
DESCRIPTION:
URL:https://pont-scorff-paroisses.fr/evenement/messe-de-noel-a-queven-a-10h30-pas-de-messe-a-cleguer/
CATEGORIES:Célébrations,Evènement accueil
ATTACH;FMTTYPE=image/jpeg:https://pont-scorff-paroisses.fr/wp-content/uploads/2017/01/horloge.jpg
END:VEVENT
BEGIN:VEVENT
DTSTART;VALUE=DATE:20171226
DTEND;VALUE=DATE:20171227
DTSTAMP:20260423T163151
CREATED:20171214T190410Z
LAST-MODIFIED:20171214T190420Z
UID:2283-1514246400-1514332799@pont-scorff-paroisses.fr
SUMMARY:Messe à Quéven à 9h00
DESCRIPTION:
URL:https://pont-scorff-paroisses.fr/evenement/messe-a-queven-a-9h00-7/
CATEGORIES:Célébrations,Evènement accueil
ATTACH;FMTTYPE=image/jpeg:https://pont-scorff-paroisses.fr/wp-content/uploads/2017/01/horloge.jpg
END:VEVENT
BEGIN:VEVENT
DTSTART;VALUE=DATE:20171227
DTEND;VALUE=DATE:20171228
DTSTAMP:20260423T163151
CREATED:20171214T190521Z
LAST-MODIFIED:20171214T190529Z
UID:2285-1514332800-1514419199@pont-scorff-paroisses.fr
SUMMARY:Messe au Bas-Pont-Scorff à 18h00
DESCRIPTION:
URL:https://pont-scorff-paroisses.fr/evenement/messe-au-bas-pont-scorff-a-18h00-5/
CATEGORIES:Célébrations,Evènement accueil
ATTACH;FMTTYPE=image/jpeg:https://pont-scorff-paroisses.fr/wp-content/uploads/2017/01/horloge.jpg
END:VEVENT
BEGIN:VEVENT
DTSTART;VALUE=DATE:20171230
DTEND;VALUE=DATE:20171231
DTSTAMP:20260423T163151
CREATED:20171214T190619Z
LAST-MODIFIED:20171214T190629Z
UID:2288-1514592000-1514678399@pont-scorff-paroisses.fr
SUMMARY:Messe à Quéven à 18h00
DESCRIPTION:
URL:https://pont-scorff-paroisses.fr/evenement/messe-a-queven-a-18h00-8/
CATEGORIES:Célébrations,Evènement accueil
ATTACH;FMTTYPE=image/jpeg:https://pont-scorff-paroisses.fr/wp-content/uploads/2017/01/horloge.jpg
END:VEVENT
BEGIN:VEVENT
DTSTART;VALUE=DATE:20171231
DTEND;VALUE=DATE:20180101
DTSTAMP:20260423T163151
CREATED:20171214T190726Z
LAST-MODIFIED:20171214T190735Z
UID:2290-1514678400-1514764799@pont-scorff-paroisses.fr
SUMMARY:Messe à Pont-Scorff à 10h30
DESCRIPTION:
URL:https://pont-scorff-paroisses.fr/evenement/messe-a-pont-scorff-a-10h30-3/
CATEGORIES:Célébrations,Evènement accueil
ATTACH;FMTTYPE=image/jpeg:https://pont-scorff-paroisses.fr/wp-content/uploads/2017/01/horloge.jpg
END:VEVENT
END:VCALENDAR