BEGIN:VCALENDAR
VERSION:2.0
PRODID:-//Paroisses de Pont Scorff - ECPv6.6.3//NONSGML v1.0//EN
CALSCALE:GREGORIAN
METHOD:PUBLISH
X-WR-CALNAME:Paroisses de Pont Scorff
X-ORIGINAL-URL:https://pont-scorff-paroisses.fr
X-WR-CALDESC:évènements pour Paroisses de Pont Scorff
REFRESH-INTERVAL;VALUE=DURATION:PT1H
X-Robots-Tag:noindex
X-PUBLISHED-TTL:PT1H
BEGIN:VTIMEZONE
TZID:Europe/Paris
BEGIN:DAYLIGHT
TZOFFSETFROM:+0100
TZOFFSETTO:+0200
TZNAME:CEST
DTSTART:20180325T010000
END:DAYLIGHT
BEGIN:STANDARD
TZOFFSETFROM:+0200
TZOFFSETTO:+0100
TZNAME:CET
DTSTART:20181028T010000
END:STANDARD
END:VTIMEZONE
BEGIN:VEVENT
DTSTART;VALUE=DATE:20180502
DTEND;VALUE=DATE:20180503
DTSTAMP:20260423T002807
CREATED:20180429T065211Z
LAST-MODIFIED:20180429T065212Z
UID:2745-1525219200-1525305599@pont-scorff-paroisses.fr
SUMMARY:Messe au Bas-Pont-Scorff à 18h00
DESCRIPTION:
URL:https://pont-scorff-paroisses.fr/evenement/messe-au-bas-pont-scorff-a-18h00-15/
CATEGORIES:Célébrations,Evènement accueil
ATTACH;FMTTYPE=image/jpeg:https://pont-scorff-paroisses.fr/wp-content/uploads/2017/01/horloge.jpg
END:VEVENT
BEGIN:VEVENT
DTSTART;VALUE=DATE:20180505
DTEND;VALUE=DATE:20180506
DTSTAMP:20260423T002807
CREATED:20180429T065658Z
LAST-MODIFIED:20180429T065659Z
UID:2753-1525478400-1525564799@pont-scorff-paroisses.fr
SUMMARY:Messe à Quéven à 18h00
DESCRIPTION:
URL:https://pont-scorff-paroisses.fr/evenement/messe-a-queven-a-18h00-17/
CATEGORIES:Célébrations,Evènement accueil
ATTACH;FMTTYPE=image/jpeg:https://pont-scorff-paroisses.fr/wp-content/uploads/2017/01/horloge.jpg
END:VEVENT
BEGIN:VEVENT
DTSTART;VALUE=DATE:20180506
DTEND;VALUE=DATE:20180507
DTSTAMP:20260423T002807
CREATED:20180429T070610Z
LAST-MODIFIED:20180429T070611Z
UID:2763-1525564800-1525651199@pont-scorff-paroisses.fr
SUMMARY:Messe à Pont-Scorff à 10h30
DESCRIPTION:
URL:https://pont-scorff-paroisses.fr/evenement/messe-a-pont-scorff-a-10h30-5/
CATEGORIES:Célébrations,Evènement accueil
ATTACH;FMTTYPE=image/jpeg:https://pont-scorff-paroisses.fr/wp-content/uploads/2017/01/horloge.jpg
END:VEVENT
BEGIN:VEVENT
DTSTART;VALUE=DATE:20180509
DTEND;VALUE=DATE:20180510
DTSTAMP:20260423T002807
CREATED:20180429T065749Z
LAST-MODIFIED:20180429T065750Z
UID:2755-1525824000-1525910399@pont-scorff-paroisses.fr
SUMMARY:Messe à Quéven à 18h00
DESCRIPTION:
URL:https://pont-scorff-paroisses.fr/evenement/messe-a-queven-a-18h00-18/
CATEGORIES:Célébrations,Evènement accueil
ATTACH;FMTTYPE=image/jpeg:https://pont-scorff-paroisses.fr/wp-content/uploads/2017/01/horloge.jpg
END:VEVENT
BEGIN:VEVENT
DTSTART;VALUE=DATE:20180510
DTEND;VALUE=DATE:20180511
DTSTAMP:20260423T002807
CREATED:20180429T070702Z
LAST-MODIFIED:20180429T071613Z
UID:2765-1525910400-1525996799@pont-scorff-paroisses.fr
SUMMARY:Messe à Pont-Scorff à 10h30
DESCRIPTION:
URL:https://pont-scorff-paroisses.fr/evenement/messe-a-pont-scorff-a-10h30-6/
CATEGORIES:Célébrations,Evènement accueil
ATTACH;FMTTYPE=image/jpeg:https://pont-scorff-paroisses.fr/wp-content/uploads/2017/01/horloge.jpg
END:VEVENT
BEGIN:VEVENT
DTSTART;VALUE=DATE:20180512
DTEND;VALUE=DATE:20180513
DTSTAMP:20260423T002807
CREATED:20180429T070154Z
LAST-MODIFIED:20180429T070154Z
UID:2757-1526083200-1526169599@pont-scorff-paroisses.fr
SUMMARY:Messe à Quéven à 18h00
DESCRIPTION:
URL:https://pont-scorff-paroisses.fr/evenement/messe-a-queven-a-18h00-19/
CATEGORIES:Célébrations,Evènement accueil
ATTACH;FMTTYPE=image/jpeg:https://pont-scorff-paroisses.fr/wp-content/uploads/2017/01/horloge.jpg
END:VEVENT
BEGIN:VEVENT
DTSTART;VALUE=DATE:20180513
DTEND;VALUE=DATE:20180514
DTSTAMP:20260423T002807
CREATED:20180429T070904Z
LAST-MODIFIED:20180429T070905Z
UID:2769-1526169600-1526255999@pont-scorff-paroisses.fr
SUMMARY:Messe à Cléguer à 10h30
DESCRIPTION:
URL:https://pont-scorff-paroisses.fr/evenement/messe-a-cleguer-a-10h30-8/
CATEGORIES:Célébrations,Evènement accueil
ATTACH;FMTTYPE=image/jpeg:https://pont-scorff-paroisses.fr/wp-content/uploads/2017/01/horloge.jpg
END:VEVENT
BEGIN:VEVENT
DTSTART;VALUE=DATE:20180515
DTEND;VALUE=DATE:20180516
DTSTAMP:20260423T002807
CREATED:20180429T071127Z
LAST-MODIFIED:20180429T071128Z
UID:2773-1526342400-1526428799@pont-scorff-paroisses.fr
SUMMARY:Messe à Quéven à 9h00
DESCRIPTION:
URL:https://pont-scorff-paroisses.fr/evenement/messe-a-queven-a-9h00-16/
CATEGORIES:Célébrations,Evènement accueil
ATTACH;FMTTYPE=image/jpeg:https://pont-scorff-paroisses.fr/wp-content/uploads/2017/01/horloge.jpg
END:VEVENT
BEGIN:VEVENT
DTSTART;VALUE=DATE:20180516
DTEND;VALUE=DATE:20180517
DTSTAMP:20260423T002807
CREATED:20180429T065300Z
LAST-MODIFIED:20180429T065301Z
UID:2747-1526428800-1526515199@pont-scorff-paroisses.fr
SUMMARY:Messe au Bas-Pont-Scorff à 18h00
DESCRIPTION:
URL:https://pont-scorff-paroisses.fr/evenement/messe-au-bas-pont-scorff-a-18h00-16/
CATEGORIES:Célébrations,Evènement accueil
ATTACH;FMTTYPE=image/jpeg:https://pont-scorff-paroisses.fr/wp-content/uploads/2017/01/horloge.jpg
END:VEVENT
BEGIN:VEVENT
DTSTART;VALUE=DATE:20180519
DTEND;VALUE=DATE:20180520
DTSTAMP:20260423T002807
CREATED:20180429T070248Z
LAST-MODIFIED:20180429T070249Z
UID:2759-1526688000-1526774399@pont-scorff-paroisses.fr
SUMMARY:Messe à Quéven à 18h00
DESCRIPTION:
URL:https://pont-scorff-paroisses.fr/evenement/messe-a-queven-a-18h00-20/
CATEGORIES:Célébrations,Evènement accueil
ATTACH;FMTTYPE=image/jpeg:https://pont-scorff-paroisses.fr/wp-content/uploads/2017/01/horloge.jpg
END:VEVENT
BEGIN:VEVENT
DTSTART;TZID=Europe/Paris:20180520T080000
DTEND;TZID=Europe/Paris:20180520T170000
DTSTAMP:20260423T002807
CREATED:20180429T070803Z
LAST-MODIFIED:20180429T071910Z
UID:2767-1526803200-1526835600@pont-scorff-paroisses.fr
SUMMARY:Messe à la chapelle Saint-Gildas - Keryaquel en Pont-Scorff à 10h30
DESCRIPTION:
URL:https://pont-scorff-paroisses.fr/evenement/messe-a-pont-scorff-a-10h30-7/
CATEGORIES:Célébrations,Evènement accueil
ATTACH;FMTTYPE=image/jpeg:https://pont-scorff-paroisses.fr/wp-content/uploads/2017/01/horloge.jpg
END:VEVENT
BEGIN:VEVENT
DTSTART;VALUE=DATE:20180522
DTEND;VALUE=DATE:20180523
DTSTAMP:20260423T002807
CREATED:20180429T071225Z
LAST-MODIFIED:20180429T071226Z
UID:2775-1526947200-1527033599@pont-scorff-paroisses.fr
SUMMARY:Messe à Quéven à 9h00
DESCRIPTION:
URL:https://pont-scorff-paroisses.fr/evenement/messe-a-queven-a-9h00-17/
CATEGORIES:Célébrations,Evènement accueil
ATTACH;FMTTYPE=image/jpeg:https://pont-scorff-paroisses.fr/wp-content/uploads/2017/01/horloge.jpg
END:VEVENT
BEGIN:VEVENT
DTSTART;VALUE=DATE:20180523
DTEND;VALUE=DATE:20180524
DTSTAMP:20260423T002807
CREATED:20180429T065404Z
LAST-MODIFIED:20180429T065537Z
UID:2749-1527033600-1527119999@pont-scorff-paroisses.fr
SUMMARY:Messe au Bas-Pont-Scorff à 18h00
DESCRIPTION:
URL:https://pont-scorff-paroisses.fr/evenement/messe-au-bas-pont-scorff-a-18h00-17/
CATEGORIES:Célébrations,Evènement accueil
ATTACH;FMTTYPE=image/jpeg:https://pont-scorff-paroisses.fr/wp-content/uploads/2017/01/horloge.jpg
END:VEVENT
BEGIN:VEVENT
DTSTART;VALUE=DATE:20180526
DTEND;VALUE=DATE:20180527
DTSTAMP:20260423T002807
CREATED:20180429T070351Z
LAST-MODIFIED:20180429T070352Z
UID:2761-1527292800-1527379199@pont-scorff-paroisses.fr
SUMMARY:Messe à Quéven à 18h00
DESCRIPTION:
URL:https://pont-scorff-paroisses.fr/evenement/messe-a-queven-a-18h00-21/
CATEGORIES:Célébrations,Evènement accueil
ATTACH;FMTTYPE=image/jpeg:https://pont-scorff-paroisses.fr/wp-content/uploads/2017/01/horloge.jpg
END:VEVENT
BEGIN:VEVENT
DTSTART;VALUE=DATE:20180527
DTEND;VALUE=DATE:20180528
DTSTAMP:20260423T002807
CREATED:20180429T071013Z
LAST-MODIFIED:20180429T071013Z
UID:2771-1527379200-1527465599@pont-scorff-paroisses.fr
SUMMARY:Messe à Cléguer à 10h30
DESCRIPTION:
URL:https://pont-scorff-paroisses.fr/evenement/messe-a-cleguer-a-10h30-9/
CATEGORIES:Célébrations,Evènement accueil
ATTACH;FMTTYPE=image/jpeg:https://pont-scorff-paroisses.fr/wp-content/uploads/2017/01/horloge.jpg
END:VEVENT
BEGIN:VEVENT
DTSTART;VALUE=DATE:20180529
DTEND;VALUE=DATE:20180530
DTSTAMP:20260423T002807
CREATED:20180429T071321Z
LAST-MODIFIED:20180429T071353Z
UID:2777-1527552000-1527638399@pont-scorff-paroisses.fr
SUMMARY:Messe à Quéven à 9h00
DESCRIPTION:
URL:https://pont-scorff-paroisses.fr/evenement/messe-a-queven-a-9h00-18/
CATEGORIES:Célébrations,Evènement accueil
ATTACH;FMTTYPE=image/jpeg:https://pont-scorff-paroisses.fr/wp-content/uploads/2017/01/horloge.jpg
END:VEVENT
BEGIN:VEVENT
DTSTART;VALUE=DATE:20180530
DTEND;VALUE=DATE:20180531
DTSTAMP:20260423T002807
CREATED:20180429T065455Z
LAST-MODIFIED:20180429T065456Z
UID:2751-1527638400-1527724799@pont-scorff-paroisses.fr
SUMMARY:Messe au Bas-Pont-Scorff à 18h00
DESCRIPTION:
URL:https://pont-scorff-paroisses.fr/evenement/messe-au-bas-pont-scorff-a-18h00-18/
CATEGORIES:Célébrations,Evènement accueil
ATTACH;FMTTYPE=image/jpeg:https://pont-scorff-paroisses.fr/wp-content/uploads/2017/01/horloge.jpg
END:VEVENT
END:VCALENDAR