BEGIN:VCALENDAR
VERSION:2.0
PRODID:-//Paroisses de Pont Scorff - ECPv6.6.3//NONSGML v1.0//EN
CALSCALE:GREGORIAN
METHOD:PUBLISH
X-ORIGINAL-URL:https://pont-scorff-paroisses.fr
X-WR-CALDESC:évènements pour Paroisses de Pont Scorff
REFRESH-INTERVAL;VALUE=DURATION:PT1H
X-Robots-Tag:noindex
X-PUBLISHED-TTL:PT1H
BEGIN:VTIMEZONE
TZID:Europe/Paris
BEGIN:DAYLIGHT
TZOFFSETFROM:+0100
TZOFFSETTO:+0200
TZNAME:CEST
DTSTART:20180325T010000
END:DAYLIGHT
BEGIN:STANDARD
TZOFFSETFROM:+0200
TZOFFSETTO:+0100
TZNAME:CET
DTSTART:20181028T010000
END:STANDARD
END:VTIMEZONE
BEGIN:VEVENT
DTSTART;VALUE=DATE:20180602
DTEND;VALUE=DATE:20180603
DTSTAMP:20260423T092407
CREATED:20180530T071520Z
LAST-MODIFIED:20180530T083759Z
UID:2798-1527897600-1527983999@pont-scorff-paroisses.fr
SUMMARY:Messe à Quéven à 18h00
DESCRIPTION:
URL:https://pont-scorff-paroisses.fr/evenement/messe-a-queven-a-18h00-22/
CATEGORIES:Célébrations,Evènement accueil
ATTACH;FMTTYPE=image/jpeg:https://pont-scorff-paroisses.fr/wp-content/uploads/2017/01/horloge.jpg
END:VEVENT
BEGIN:VEVENT
DTSTART;VALUE=DATE:20180603
DTEND;VALUE=DATE:20180604
DTSTAMP:20260423T092407
CREATED:20180530T074057Z
LAST-MODIFIED:20180530T074057Z
UID:2822-1527984000-1528070399@pont-scorff-paroisses.fr
SUMMARY:Messe à Pont-Scorff à 10h30 - Confirmation
DESCRIPTION:
URL:https://pont-scorff-paroisses.fr/evenement/messe-a-pont-scorff-a-10h30-confirmation/
CATEGORIES:Célébrations,Evènement accueil
ATTACH;FMTTYPE=image/jpeg:https://pont-scorff-paroisses.fr/wp-content/uploads/2017/01/horloge.jpg
END:VEVENT
BEGIN:VEVENT
DTSTART;VALUE=DATE:20180605
DTEND;VALUE=DATE:20180606
DTSTAMP:20260423T092407
CREATED:20180530T072230Z
LAST-MODIFIED:20180530T072230Z
UID:2808-1528156800-1528243199@pont-scorff-paroisses.fr
SUMMARY:Messe à Quéven à 9h00
DESCRIPTION:
URL:https://pont-scorff-paroisses.fr/evenement/messe-a-queven-a-9h00-19/
CATEGORIES:Célébrations,Evènement accueil
ATTACH;FMTTYPE=image/jpeg:https://pont-scorff-paroisses.fr/wp-content/uploads/2017/01/horloge.jpg
END:VEVENT
BEGIN:VEVENT
DTSTART;VALUE=DATE:20180606
DTEND;VALUE=DATE:20180607
DTSTAMP:20260423T092407
CREATED:20180530T074545Z
LAST-MODIFIED:20180530T074545Z
UID:2826-1528243200-1528329599@pont-scorff-paroisses.fr
SUMMARY:Messe au Bas-Pont-Scorff à 18h00
DESCRIPTION:
URL:https://pont-scorff-paroisses.fr/evenement/messe-au-bas-pont-scorff-a-18h00-19/
CATEGORIES:Célébrations,Evènement accueil
ATTACH;FMTTYPE=image/jpeg:https://pont-scorff-paroisses.fr/wp-content/uploads/2017/01/horloge.jpg
END:VEVENT
BEGIN:VEVENT
DTSTART;VALUE=DATE:20180608
DTEND;VALUE=DATE:20180609
DTSTAMP:20260423T092407
CREATED:20180530T083645Z
LAST-MODIFIED:20180530T083656Z
UID:2834-1528416000-1528502399@pont-scorff-paroisses.fr
SUMMARY:Fête du Sacré Coeur - Messe à l'église de Pont-Scorff à 18h00
DESCRIPTION:
URL:https://pont-scorff-paroisses.fr/evenement/fete-du-sacre-coeur-messe-a-leglise-de-pont-scorff-a-18h00/
CATEGORIES:Célébrations,Evènement accueil
ATTACH;FMTTYPE=image/jpeg:https://pont-scorff-paroisses.fr/wp-content/uploads/2017/01/horloge.jpg
END:VEVENT
BEGIN:VEVENT
DTSTART;VALUE=DATE:20180609
DTEND;VALUE=DATE:20180610
DTSTAMP:20260423T092407
CREATED:20180530T071601Z
LAST-MODIFIED:20180530T071601Z
UID:2800-1528502400-1528588799@pont-scorff-paroisses.fr
SUMMARY:Messe à Quéven à 18h00
DESCRIPTION:
URL:https://pont-scorff-paroisses.fr/evenement/messe-a-queven-a-18h00-23/
CATEGORIES:Célébrations,Evènement accueil
ATTACH;FMTTYPE=image/jpeg:https://pont-scorff-paroisses.fr/wp-content/uploads/2017/01/horloge.jpg
END:VEVENT
BEGIN:VEVENT
DTSTART;VALUE=DATE:20180612
DTEND;VALUE=DATE:20180613
DTSTAMP:20260423T092407
CREATED:20180530T072405Z
LAST-MODIFIED:20180530T072405Z
UID:2810-1528761600-1528847999@pont-scorff-paroisses.fr
SUMMARY:Messe à Quéven à 9h00
DESCRIPTION:
URL:https://pont-scorff-paroisses.fr/evenement/messe-a-queven-a-9h00-20/
CATEGORIES:Célébrations,Evènement accueil
ATTACH;FMTTYPE=image/jpeg:https://pont-scorff-paroisses.fr/wp-content/uploads/2017/01/horloge.jpg
END:VEVENT
BEGIN:VEVENT
DTSTART;VALUE=DATE:20180613
DTEND;VALUE=DATE:20180614
DTSTAMP:20260423T092407
CREATED:20180530T074639Z
LAST-MODIFIED:20180530T074639Z
UID:2828-1528848000-1528934399@pont-scorff-paroisses.fr
SUMMARY:Messe au Bas-Pont-Scorff à 18h00
DESCRIPTION:
URL:https://pont-scorff-paroisses.fr/evenement/messe-au-bas-pont-scorff-a-18h00-20/
CATEGORIES:Célébrations,Evènement accueil
ATTACH;FMTTYPE=image/jpeg:https://pont-scorff-paroisses.fr/wp-content/uploads/2017/01/horloge.jpg
END:VEVENT
BEGIN:VEVENT
DTSTART;VALUE=DATE:20180616
DTEND;VALUE=DATE:20180617
DTSTAMP:20260423T092407
CREATED:20180530T071702Z
LAST-MODIFIED:20180530T071702Z
UID:2802-1529107200-1529193599@pont-scorff-paroisses.fr
SUMMARY:Messe à Quéven à 18h00
DESCRIPTION:
URL:https://pont-scorff-paroisses.fr/evenement/messe-a-queven-a-18h00-24/
CATEGORIES:Célébrations,Evènement accueil
ATTACH;FMTTYPE=image/jpeg:https://pont-scorff-paroisses.fr/wp-content/uploads/2017/01/horloge.jpg
END:VEVENT
BEGIN:VEVENT
DTSTART;VALUE=DATE:20180617
DTEND;VALUE=DATE:20180618
DTSTAMP:20260423T092407
CREATED:20180530T074332Z
LAST-MODIFIED:20180530T074332Z
UID:2824-1529193600-1529279999@pont-scorff-paroisses.fr
SUMMARY:Messe à la chapelle de Saint-Servais en Pont-Scorff à 10h30
DESCRIPTION:
URL:https://pont-scorff-paroisses.fr/evenement/messe-a-la-chapelle-de-saint-servais-en-pont-scorff-a-10h30/
CATEGORIES:Célébrations,Evènement accueil
ATTACH;FMTTYPE=image/jpeg:https://pont-scorff-paroisses.fr/wp-content/uploads/2017/01/horloge.jpg
END:VEVENT
BEGIN:VEVENT
DTSTART;VALUE=DATE:20180619
DTEND;VALUE=DATE:20180620
DTSTAMP:20260423T092407
CREATED:20180530T072445Z
LAST-MODIFIED:20180530T072445Z
UID:2812-1529366400-1529452799@pont-scorff-paroisses.fr
SUMMARY:Messe à Quéven à 9h00
DESCRIPTION:
URL:https://pont-scorff-paroisses.fr/evenement/messe-a-queven-a-9h00-21/
CATEGORIES:Célébrations,Evènement accueil
ATTACH;FMTTYPE=image/jpeg:https://pont-scorff-paroisses.fr/wp-content/uploads/2017/01/horloge.jpg
END:VEVENT
BEGIN:VEVENT
DTSTART;VALUE=DATE:20180620
DTEND;VALUE=DATE:20180621
DTSTAMP:20260423T092407
CREATED:20180530T074725Z
LAST-MODIFIED:20180530T074725Z
UID:2830-1529452800-1529539199@pont-scorff-paroisses.fr
SUMMARY:Messe au Bas-Pont-Scorff à 18h00
DESCRIPTION:
URL:https://pont-scorff-paroisses.fr/evenement/messe-au-bas-pont-scorff-a-18h00-21/
CATEGORIES:Célébrations,Evènement accueil
ATTACH;FMTTYPE=image/jpeg:https://pont-scorff-paroisses.fr/wp-content/uploads/2017/01/horloge.jpg
END:VEVENT
BEGIN:VEVENT
DTSTART;VALUE=DATE:20180623
DTEND;VALUE=DATE:20180624
DTSTAMP:20260423T092407
CREATED:20180530T071747Z
LAST-MODIFIED:20180530T071747Z
UID:2804-1529712000-1529798399@pont-scorff-paroisses.fr
SUMMARY:Messe à Quéven à 18h00
DESCRIPTION:
URL:https://pont-scorff-paroisses.fr/evenement/messe-a-queven-a-18h00-25/
CATEGORIES:Célébrations,Evènement accueil
ATTACH;FMTTYPE=image/jpeg:https://pont-scorff-paroisses.fr/wp-content/uploads/2017/01/horloge.jpg
END:VEVENT
BEGIN:VEVENT
DTSTART;VALUE=DATE:20180624
DTEND;VALUE=DATE:20180625
DTSTAMP:20260423T092407
CREATED:20180530T072843Z
LAST-MODIFIED:20180530T072843Z
UID:2818-1529798400-1529884799@pont-scorff-paroisses.fr
SUMMARY:Messe à Cléguer à 10h30
DESCRIPTION:
URL:https://pont-scorff-paroisses.fr/evenement/messe-a-cleguer-a-10h30-10/
CATEGORIES:Célébrations,Evènement accueil
ATTACH;FMTTYPE=image/jpeg:https://pont-scorff-paroisses.fr/wp-content/uploads/2017/01/horloge.jpg
END:VEVENT
BEGIN:VEVENT
DTSTART;VALUE=DATE:20180626
DTEND;VALUE=DATE:20180627
DTSTAMP:20260423T092407
CREATED:20180530T072535Z
LAST-MODIFIED:20180530T072549Z
UID:2814-1529971200-1530057599@pont-scorff-paroisses.fr
SUMMARY:Messe à Quéven à 9h00
DESCRIPTION:
URL:https://pont-scorff-paroisses.fr/evenement/messe-a-queven-a-9h00-22/
CATEGORIES:Célébrations,Evènement accueil
ATTACH;FMTTYPE=image/jpeg:https://pont-scorff-paroisses.fr/wp-content/uploads/2017/01/horloge.jpg
END:VEVENT
BEGIN:VEVENT
DTSTART;VALUE=DATE:20180627
DTEND;VALUE=DATE:20180628
DTSTAMP:20260423T092407
CREATED:20180530T074820Z
LAST-MODIFIED:20180530T074820Z
UID:2832-1530057600-1530143999@pont-scorff-paroisses.fr
SUMMARY:Célébration au Bas-Pont-Scorff à 18h00
DESCRIPTION:
URL:https://pont-scorff-paroisses.fr/evenement/celebration-au-bas-pont-scorff-a-18h00/
CATEGORIES:Célébrations,Evènement accueil
ATTACH;FMTTYPE=image/jpeg:https://pont-scorff-paroisses.fr/wp-content/uploads/2017/01/horloge.jpg
END:VEVENT
BEGIN:VEVENT
DTSTART;VALUE=DATE:20180630
DTEND;VALUE=DATE:20180701
DTSTAMP:20260423T092407
CREATED:20180530T071833Z
LAST-MODIFIED:20180530T071857Z
UID:2806-1530316800-1530403199@pont-scorff-paroisses.fr
SUMMARY:Messe à Quéven à 18h00
DESCRIPTION:
URL:https://pont-scorff-paroisses.fr/evenement/messe-a-queven-a-18h00-26/
CATEGORIES:Célébrations,Evènement accueil
ATTACH;FMTTYPE=image/jpeg:https://pont-scorff-paroisses.fr/wp-content/uploads/2017/01/horloge.jpg
END:VEVENT
END:VCALENDAR