BEGIN:VCALENDAR
VERSION:2.0
PRODID:-//Paroisses de Pont Scorff - ECPv6.6.3//NONSGML v1.0//EN
CALSCALE:GREGORIAN
METHOD:PUBLISH
X-ORIGINAL-URL:https://pont-scorff-paroisses.fr
X-WR-CALDESC:évènements pour Paroisses de Pont Scorff
REFRESH-INTERVAL;VALUE=DURATION:PT1H
X-Robots-Tag:noindex
X-PUBLISHED-TTL:PT1H
BEGIN:VTIMEZONE
TZID:Europe/Paris
BEGIN:DAYLIGHT
TZOFFSETFROM:+0100
TZOFFSETTO:+0200
TZNAME:CEST
DTSTART:20180325T010000
END:DAYLIGHT
BEGIN:STANDARD
TZOFFSETFROM:+0200
TZOFFSETTO:+0100
TZNAME:CET
DTSTART:20181028T010000
END:STANDARD
END:VTIMEZONE
BEGIN:VEVENT
DTSTART;VALUE=DATE:20180701
DTEND;VALUE=DATE:20180702
DTSTAMP:20260422T211740
CREATED:20180608T091558Z
LAST-MODIFIED:20180608T091558Z
UID:2878-1530403200-1530489599@pont-scorff-paroisses.fr
SUMMARY:messe à 10h30 à la chapelle de Lesbin Pont Scorff
DESCRIPTION:
URL:https://pont-scorff-paroisses.fr/evenement/messe-a-10h30-a-la-chapelle-de-lesbin-pont-scorff/
CATEGORIES:Célébrations,Evènement accueil
ATTACH;FMTTYPE=image/jpeg:https://pont-scorff-paroisses.fr/wp-content/uploads/2017/01/horloge.jpg
END:VEVENT
BEGIN:VEVENT
DTSTART;VALUE=DATE:20180701
DTEND;VALUE=DATE:20180702
DTSTAMP:20260422T211740
CREATED:20180530T100357Z
LAST-MODIFIED:20180530T100912Z
UID:2842-1530403200-1530489599@pont-scorff-paroisses.fr
SUMMARY:Messe
DESCRIPTION:https://calendar.google.com/event?action=TEMPLATE&tmeid=NThxYm81N2c3b2ZtdW5saWdhNG5raXU5NGkgcG9udHNjb3JmZi5wYXJvaXNzZXNAbQ&tmsrc=pontscorff.paroisses%40gmail.com
URL:https://pont-scorff-paroisses.fr/evenement/2842/
CATEGORIES:Célébrations,Evènement accueil
ATTACH;FMTTYPE=image/jpeg:https://pont-scorff-paroisses.fr/wp-content/uploads/2017/01/horloge.jpg
END:VEVENT
BEGIN:VEVENT
DTSTART;VALUE=DATE:20180708
DTEND;VALUE=DATE:20180709
DTSTAMP:20260422T211740
CREATED:20180608T091721Z
LAST-MODIFIED:20180608T092004Z
UID:2880-1531008000-1531094399@pont-scorff-paroisses.fr
SUMMARY:messe à 10h30 à Cléguer
DESCRIPTION:
URL:https://pont-scorff-paroisses.fr/evenement/messe-a-10h30-a-cleguer-3/
CATEGORIES:Célébrations,Evènement accueil
ATTACH;FMTTYPE=image/jpeg:https://pont-scorff-paroisses.fr/wp-content/uploads/2017/01/horloge.jpg
END:VEVENT
BEGIN:VEVENT
DTSTART;VALUE=DATE:20180715
DTEND;VALUE=DATE:20180716
DTSTAMP:20260422T211740
CREATED:20180608T094213Z
LAST-MODIFIED:20180608T094213Z
UID:2905-1531612800-1531699199@pont-scorff-paroisses.fr
SUMMARY:Messe à 10h30 à Pont Scorff
DESCRIPTION:
URL:https://pont-scorff-paroisses.fr/evenement/messe-a-10h30-a-pont-scorff-4/
CATEGORIES:Célébrations,Evènement accueil
ATTACH;FMTTYPE=image/jpeg:https://pont-scorff-paroisses.fr/wp-content/uploads/2017/01/horloge.jpg
END:VEVENT
BEGIN:VEVENT
DTSTART;VALUE=DATE:20180715
DTEND;VALUE=DATE:20180716
DTSTAMP:20260422T211740
CREATED:20180608T091907Z
LAST-MODIFIED:20180608T091907Z
UID:2882-1531612800-1531699199@pont-scorff-paroisses.fr
SUMMARY:messe à 10h30 à Pont Scorff
DESCRIPTION:
URL:https://pont-scorff-paroisses.fr/evenement/messe-a-10h30-a-pont-scorff-3/
CATEGORIES:Célébrations,Evènement accueil
ATTACH;FMTTYPE=image/jpeg:https://pont-scorff-paroisses.fr/wp-content/uploads/2017/01/horloge.jpg
END:VEVENT
BEGIN:VEVENT
DTSTART;VALUE=DATE:20180722
DTEND;VALUE=DATE:20180723
DTSTAMP:20260422T211740
CREATED:20180608T092251Z
LAST-MODIFIED:20180608T092251Z
UID:2886-1532217600-1532303999@pont-scorff-paroisses.fr
SUMMARY:messe à 10h30 à Cléguer
DESCRIPTION:
URL:https://pont-scorff-paroisses.fr/evenement/messe-a-10h30-a-cleguer-4/
CATEGORIES:Célébrations,Evènement accueil
ATTACH;FMTTYPE=image/jpeg:https://pont-scorff-paroisses.fr/wp-content/uploads/2017/01/horloge.jpg
END:VEVENT
BEGIN:VEVENT
DTSTART;VALUE=DATE:20180729
DTEND;VALUE=DATE:20180730
DTSTAMP:20260422T211740
CREATED:20180608T094332Z
LAST-MODIFIED:20180608T094332Z
UID:2907-1532822400-1532908799@pont-scorff-paroisses.fr
SUMMARY:Messe à 10h30 à Pont Scorff
DESCRIPTION:
URL:https://pont-scorff-paroisses.fr/evenement/messe-a-10h30-a-pont-scorff-5/
CATEGORIES:Célébrations,Evènement accueil
ATTACH;FMTTYPE=image/jpeg:https://pont-scorff-paroisses.fr/wp-content/uploads/2017/01/horloge.jpg
END:VEVENT
END:VCALENDAR