BEGIN:VCALENDAR
VERSION:2.0
PRODID:-//Paroisses de Pont Scorff - ECPv6.6.3//NONSGML v1.0//EN
CALSCALE:GREGORIAN
METHOD:PUBLISH
X-ORIGINAL-URL:https://pont-scorff-paroisses.fr
X-WR-CALDESC:évènements pour Paroisses de Pont Scorff
REFRESH-INTERVAL;VALUE=DURATION:PT1H
X-Robots-Tag:noindex
X-PUBLISHED-TTL:PT1H
BEGIN:VTIMEZONE
TZID:Europe/Paris
BEGIN:DAYLIGHT
TZOFFSETFROM:+0100
TZOFFSETTO:+0200
TZNAME:CEST
DTSTART:20170326T010000
END:DAYLIGHT
BEGIN:STANDARD
TZOFFSETFROM:+0200
TZOFFSETTO:+0100
TZNAME:CET
DTSTART:20171029T010000
END:STANDARD
END:VTIMEZONE
BEGIN:VEVENT
DTSTART;VALUE=DATE:20171216
DTEND;VALUE=DATE:20171217
DTSTAMP:20260423T181151
CREATED:20171209T074736Z
LAST-MODIFIED:20171209T075021Z
UID:2258-1513382400-1513468799@pont-scorff-paroisses.fr
SUMMARY:Fête de la lumière à l'occasion de la Sainte-Lucie : marche nocturne de l'église de Pont-Scorff à la chapelle de Lesbin (aller-retour)
DESCRIPTION:De 17h00 à 18h45 environ\, pour fêter la lumière à l’occasion de la Sainte-Lucie\,\nTout le monde est invité à rejoindre les jeunes de la Profession de Foi et de la Confirmation pour une marche nocturne de l’église de Pont-Scorff à la chapelle de Lesbin\, aller-retour.\n17h00 : rassemblement à l’église ; 17h15 : départ ; 17h35 : arrivée à Lesbin ; 18h00 : départ de Lesbin ; 18h15 arrivée à l’église et messe (jusque vers 18h45). \nOn peut participer à l’ensemble de ce rassemblement ou à une partie seulement.
URL:https://pont-scorff-paroisses.fr/evenement/fete-de-la-lumiere-a-loccasion-de-la-sainte-lucie-marche-nocturne-de-leglise-de-pont-scorff-a-la-chapelle-de-lesbin/
CATEGORIES:Evènement accueil
ATTACH;FMTTYPE=image/jpeg:https://pont-scorff-paroisses.fr/wp-content/uploads/2017/01/fond_pave.jpg
END:VEVENT
BEGIN:VEVENT
DTSTART;VALUE=DATE:20171216
DTEND;VALUE=DATE:20171217
DTSTAMP:20260423T181151
CREATED:20171204T192458Z
LAST-MODIFIED:20171204T192506Z
UID:2228-1513382400-1513468799@pont-scorff-paroisses.fr
SUMMARY:Messe à Quéven à 18h00
DESCRIPTION:
URL:https://pont-scorff-paroisses.fr/evenement/messe-a-queven-a-18h00-7/
CATEGORIES:Célébrations,Evènement accueil
ATTACH;FMTTYPE=image/jpeg:https://pont-scorff-paroisses.fr/wp-content/uploads/2017/01/horloge.jpg
END:VEVENT
END:VCALENDAR