BEGIN:VCALENDAR
VERSION:2.0
PRODID:-//Paroisses de Pont Scorff - ECPv6.6.3//NONSGML v1.0//EN
CALSCALE:GREGORIAN
METHOD:PUBLISH
X-WR-CALNAME:Paroisses de Pont Scorff
X-ORIGINAL-URL:https://pont-scorff-paroisses.fr
X-WR-CALDESC:évènements pour Paroisses de Pont Scorff
REFRESH-INTERVAL;VALUE=DURATION:PT1H
X-Robots-Tag:noindex
X-PUBLISHED-TTL:PT1H
BEGIN:VTIMEZONE
TZID:Europe/Paris
BEGIN:DAYLIGHT
TZOFFSETFROM:+0100
TZOFFSETTO:+0200
TZNAME:CEST
DTSTART:20180325T010000
END:DAYLIGHT
BEGIN:STANDARD
TZOFFSETFROM:+0200
TZOFFSETTO:+0100
TZNAME:CET
DTSTART:20181028T010000
END:STANDARD
END:VTIMEZONE
BEGIN:VEVENT
DTSTART;VALUE=DATE:20180330
DTEND;VALUE=DATE:20180331
DTSTAMP:20260423T092956
CREATED:20180323T110045Z
LAST-MODIFIED:20180323T110046Z
UID:2670-1522368000-1522454399@pont-scorff-paroisses.fr
SUMMARY:Célébration de la Passion à Pont-Scorff à 18h00
DESCRIPTION:
URL:https://pont-scorff-paroisses.fr/evenement/celebration-de-la-passion-a-pont-scorff-a-18h00/
CATEGORIES:Célébrations,Evènement accueil
ATTACH;FMTTYPE=image/jpeg:https://pont-scorff-paroisses.fr/wp-content/uploads/2017/01/horloge.jpg
END:VEVENT
BEGIN:VEVENT
DTSTART;VALUE=DATE:20180330
DTEND;VALUE=DATE:20180331
DTSTAMP:20260423T092956
CREATED:20180323T105905Z
LAST-MODIFIED:20180323T105906Z
UID:2668-1522368000-1522454399@pont-scorff-paroisses.fr
SUMMARY:Confessions individuelles à Pont-Scorff de 17h00 à 17h45
DESCRIPTION:
URL:https://pont-scorff-paroisses.fr/evenement/confessions-individuelles-a-pont-scorff-de-17h00-a-17h45/
CATEGORIES:Célébrations,Evènement accueil
ATTACH;FMTTYPE=image/jpeg:https://pont-scorff-paroisses.fr/wp-content/uploads/2017/01/horloge.jpg
END:VEVENT
BEGIN:VEVENT
DTSTART;VALUE=DATE:20180330
DTEND;VALUE=DATE:20180331
DTSTAMP:20260423T092956
CREATED:20180323T105804Z
LAST-MODIFIED:20180323T105805Z
UID:2666-1522368000-1522454399@pont-scorff-paroisses.fr
SUMMARY:Chemin de croix au Bas-Pont-Scorff à 15h00
DESCRIPTION:
URL:https://pont-scorff-paroisses.fr/evenement/chemin-de-croix-au-bas-pont-scorff-a-15h00/
CATEGORIES:Célébrations,Evènement accueil
ATTACH;FMTTYPE=image/jpeg:https://pont-scorff-paroisses.fr/wp-content/uploads/2017/01/horloge.jpg
END:VEVENT
END:VCALENDAR