BEGIN:VCALENDAR
VERSION:2.0
PRODID:-//Paroisses de Pont Scorff - ECPv6.6.3//NONSGML v1.0//EN
CALSCALE:GREGORIAN
METHOD:PUBLISH
X-ORIGINAL-URL:https://pont-scorff-paroisses.fr
X-WR-CALDESC:évènements pour Paroisses de Pont Scorff
REFRESH-INTERVAL;VALUE=DURATION:PT1H
X-Robots-Tag:noindex
X-PUBLISHED-TTL:PT1H
BEGIN:VTIMEZONE
TZID:Europe/Paris
BEGIN:DAYLIGHT
TZOFFSETFROM:+0100
TZOFFSETTO:+0200
TZNAME:CEST
DTSTART:20180325T010000
END:DAYLIGHT
BEGIN:STANDARD
TZOFFSETFROM:+0200
TZOFFSETTO:+0100
TZNAME:CET
DTSTART:20181028T010000
END:STANDARD
END:VTIMEZONE
BEGIN:VEVENT
DTSTART;VALUE=DATE:20180902
DTEND;VALUE=DATE:20180903
DTSTAMP:20260423T204024
CREATED:20180608T093059Z
LAST-MODIFIED:20180829T154515Z
UID:2894-1535846400-1535932799@pont-scorff-paroisses.fr
SUMMARY:Pardon de St Guénaël - Messe à 11h00 à la Chapelle St Guénaël en Cléguer
DESCRIPTION:
URL:https://pont-scorff-paroisses.fr/evenement/pardon-de-st-guenael-st-guenael-cleguer/
CATEGORIES:Célébrations,Evènement accueil
ATTACH;FMTTYPE=image/jpeg:https://pont-scorff-paroisses.fr/wp-content/uploads/2017/01/horloge.jpg
END:VEVENT
BEGIN:VEVENT
DTSTART;VALUE=DATE:20180909
DTEND;VALUE=DATE:20180910
DTSTAMP:20260423T204024
CREATED:20180608T094919Z
LAST-MODIFIED:20180608T094919Z
UID:2913-1536451200-1536537599@pont-scorff-paroisses.fr
SUMMARY:Messe à 10h30 à Pont Scorff
DESCRIPTION:
URL:https://pont-scorff-paroisses.fr/evenement/messe-a-10h30-a-pont-scorff-7/
CATEGORIES:Célébrations,Evènement accueil
ATTACH;FMTTYPE=image/jpeg:https://pont-scorff-paroisses.fr/wp-content/uploads/2017/01/horloge.jpg
END:VEVENT
BEGIN:VEVENT
DTSTART;VALUE=DATE:20180916
DTEND;VALUE=DATE:20180917
DTSTAMP:20260423T204024
CREATED:20180608T093202Z
LAST-MODIFIED:20180608T093202Z
UID:2896-1537056000-1537142399@pont-scorff-paroisses.fr
SUMMARY:messe à 10h30 à Cléguer
DESCRIPTION:
URL:https://pont-scorff-paroisses.fr/evenement/messe-a-10h30-a-cleguer-7/
CATEGORIES:Célébrations,Evènement accueil
ATTACH;FMTTYPE=image/jpeg:https://pont-scorff-paroisses.fr/wp-content/uploads/2017/01/horloge.jpg
END:VEVENT
BEGIN:VEVENT
DTSTART;VALUE=DATE:20180919
DTEND;VALUE=DATE:20180920
DTSTAMP:20260423T204024
CREATED:20180915T143049Z
LAST-MODIFIED:20180915T143516Z
UID:3097-1537315200-1537401599@pont-scorff-paroisses.fr
SUMMARY:Messe à 18h00 à la chapelle du Bas-Pont-Scorff
DESCRIPTION:
URL:https://pont-scorff-paroisses.fr/evenement/messe-a-18h00-a-la-chapelle-du-bas-pont-scorff/
CATEGORIES:Célébrations,Evènement accueil
ATTACH;FMTTYPE=image/jpeg:https://pont-scorff-paroisses.fr/wp-content/uploads/2017/01/horloge.jpg
END:VEVENT
BEGIN:VEVENT
DTSTART;VALUE=DATE:20180923
DTEND;VALUE=DATE:20180924
DTSTAMP:20260423T204024
CREATED:20180608T095032Z
LAST-MODIFIED:20180608T095032Z
UID:2915-1537660800-1537747199@pont-scorff-paroisses.fr
SUMMARY:Messe à 10h30 à Pont Scorff
DESCRIPTION:
URL:https://pont-scorff-paroisses.fr/evenement/messe-a-10h30-a-pont-scorff-8/
CATEGORIES:Célébrations,Evènement accueil
ATTACH;FMTTYPE=image/jpeg:https://pont-scorff-paroisses.fr/wp-content/uploads/2017/01/horloge.jpg
END:VEVENT
BEGIN:VEVENT
DTSTART;VALUE=DATE:20180926
DTEND;VALUE=DATE:20180927
DTSTAMP:20260423T204024
CREATED:20180915T145823Z
LAST-MODIFIED:20180915T145834Z
UID:3099-1537920000-1538006399@pont-scorff-paroisses.fr
SUMMARY:Messe à 18h00 à la chapelle du Bas-Pont-Scorff
DESCRIPTION:
URL:https://pont-scorff-paroisses.fr/evenement/messe-a-18h00-a-la-chapelle-du-bas-pont-scorff-2/
CATEGORIES:Célébrations,Evènement accueil
ATTACH;FMTTYPE=image/jpeg:https://pont-scorff-paroisses.fr/wp-content/uploads/2017/01/horloge.jpg
END:VEVENT
BEGIN:VEVENT
DTSTART;VALUE=DATE:20180930
DTEND;VALUE=DATE:20181001
DTSTAMP:20260423T204024
CREATED:20180608T093353Z
LAST-MODIFIED:20180608T093353Z
UID:2898-1538265600-1538351999@pont-scorff-paroisses.fr
SUMMARY:messe à 10h30 à Cléguer
DESCRIPTION:
URL:https://pont-scorff-paroisses.fr/evenement/messe-a-10h30-a-cleguer-8/
CATEGORIES:Célébrations,Evènement accueil
ATTACH;FMTTYPE=image/jpeg:https://pont-scorff-paroisses.fr/wp-content/uploads/2017/01/horloge.jpg
END:VEVENT
END:VCALENDAR