BEGIN:VCALENDAR
VERSION:2.0
PRODID:-//Paroisses de Pont Scorff - ECPv6.6.3//NONSGML v1.0//EN
CALSCALE:GREGORIAN
METHOD:PUBLISH
X-WR-CALNAME:Paroisses de Pont Scorff
X-ORIGINAL-URL:https://pont-scorff-paroisses.fr
X-WR-CALDESC:évènements pour Paroisses de Pont Scorff
REFRESH-INTERVAL;VALUE=DURATION:PT1H
X-Robots-Tag:noindex
X-PUBLISHED-TTL:PT1H
BEGIN:VTIMEZONE
TZID:Europe/Paris
BEGIN:DAYLIGHT
TZOFFSETFROM:+0100
TZOFFSETTO:+0200
TZNAME:CEST
DTSTART:20190331T010000
END:DAYLIGHT
BEGIN:STANDARD
TZOFFSETFROM:+0200
TZOFFSETTO:+0100
TZNAME:CET
DTSTART:20191027T010000
END:STANDARD
END:VTIMEZONE
BEGIN:VEVENT
DTSTART;VALUE=DATE:20190403
DTEND;VALUE=DATE:20190404
DTSTAMP:20260423T070338
CREATED:20190329T163438Z
LAST-MODIFIED:20190329T163438Z
UID:3464-1554249600-1554335999@pont-scorff-paroisses.fr
SUMMARY:Messe à 18h00 à la chapelle du Bas-Pont-Scorff
DESCRIPTION:
URL:https://pont-scorff-paroisses.fr/evenement/messe-a-18h00-a-la-chapelle-du-bas-pont-scorff-22/
CATEGORIES:Célébrations,Evènement accueil
ATTACH;FMTTYPE=image/jpeg:https://pont-scorff-paroisses.fr/wp-content/uploads/2017/01/horloge.jpg
END:VEVENT
BEGIN:VEVENT
DTSTART;VALUE=DATE:20190407
DTEND;VALUE=DATE:20190408
DTSTAMP:20260423T070338
CREATED:20190329T162857Z
LAST-MODIFIED:20190329T162857Z
UID:3456-1554595200-1554681599@pont-scorff-paroisses.fr
SUMMARY:Messe à 10h30 à Pont-Scorff
DESCRIPTION:
URL:https://pont-scorff-paroisses.fr/evenement/messe-a-10h30-a-pont-scorff-23/
CATEGORIES:Célébrations,Evènement accueil
ATTACH;FMTTYPE=image/jpeg:https://pont-scorff-paroisses.fr/wp-content/uploads/2017/01/horloge.jpg
END:VEVENT
BEGIN:VEVENT
DTSTART;VALUE=DATE:20190410
DTEND;VALUE=DATE:20190411
DTSTAMP:20260423T070338
CREATED:20190329T163535Z
LAST-MODIFIED:20190329T163535Z
UID:3466-1554854400-1554940799@pont-scorff-paroisses.fr
SUMMARY:Messe à 18h00 à la chapelle du Bas-Pont-Scorff
DESCRIPTION:
URL:https://pont-scorff-paroisses.fr/evenement/messe-a-18h00-a-la-chapelle-du-bas-pont-scorff-23/
CATEGORIES:Célébrations,Evènement accueil
ATTACH;FMTTYPE=image/jpeg:https://pont-scorff-paroisses.fr/wp-content/uploads/2017/01/horloge.jpg
END:VEVENT
BEGIN:VEVENT
DTSTART;VALUE=DATE:20190414
DTEND;VALUE=DATE:20190415
DTSTAMP:20260423T070338
CREATED:20190329T163149Z
LAST-MODIFIED:20190329T163149Z
UID:3460-1555200000-1555286399@pont-scorff-paroisses.fr
SUMMARY:Messe des Rameaux à 10h30 à Cléguer
DESCRIPTION:
URL:https://pont-scorff-paroisses.fr/evenement/messe-des-rameaux-a-10h30-a-cleguer/
CATEGORIES:Célébrations,Evènement accueil
ATTACH;FMTTYPE=image/jpeg:https://pont-scorff-paroisses.fr/wp-content/uploads/2017/01/horloge.jpg
END:VEVENT
BEGIN:VEVENT
DTSTART;VALUE=DATE:20190415
DTEND;VALUE=DATE:20190416
DTSTAMP:20260423T070338
CREATED:20190409T081943Z
LAST-MODIFIED:20190409T081953Z
UID:3497-1555286400-1555372799@pont-scorff-paroisses.fr
SUMMARY:Célébration pénitentielle à 18h00 à la chapelle du Bas-Pont-Scorff
DESCRIPTION:
URL:https://pont-scorff-paroisses.fr/evenement/celebration-penitentielle-a-18h00-a-la-chapelle-du-bas-pont-scorff/
CATEGORIES:Célébrations,Evènement accueil
ATTACH;FMTTYPE=image/jpeg:https://pont-scorff-paroisses.fr/wp-content/uploads/2017/01/horloge.jpg
END:VEVENT
BEGIN:VEVENT
DTSTART;VALUE=DATE:20190417
DTEND;VALUE=DATE:20190418
DTSTAMP:20260423T070338
CREATED:20190329T163626Z
LAST-MODIFIED:20190329T163626Z
UID:3468-1555459200-1555545599@pont-scorff-paroisses.fr
SUMMARY:Messe à 18h00 à la chapelle du Bas-Pont-Scorff
DESCRIPTION:
URL:https://pont-scorff-paroisses.fr/evenement/messe-a-18h00-a-la-chapelle-du-bas-pont-scorff-24/
CATEGORIES:Célébrations,Evènement accueil
ATTACH;FMTTYPE=image/jpeg:https://pont-scorff-paroisses.fr/wp-content/uploads/2017/01/horloge.jpg
END:VEVENT
BEGIN:VEVENT
DTSTART;TZID=Europe/Paris:20190418T080000
DTEND;TZID=Europe/Paris:20190418T170000
DTSTAMP:20260423T070338
CREATED:20190329T163850Z
LAST-MODIFIED:20190329T163850Z
UID:3472-1555574400-1555606800@pont-scorff-paroisses.fr
SUMMARY:Célébration de la Cène à 19h00 à Gestel (pour le doyenné)
DESCRIPTION:
URL:https://pont-scorff-paroisses.fr/evenement/celebration-de-la-cene-a-19h00-a-gestel-pour-le-doyenne/
CATEGORIES:Célébrations,Evènement accueil
ATTACH;FMTTYPE=image/jpeg:https://pont-scorff-paroisses.fr/wp-content/uploads/2017/01/horloge.jpg
END:VEVENT
BEGIN:VEVENT
DTSTART;VALUE=DATE:20190419
DTEND;VALUE=DATE:20190420
DTSTAMP:20260423T070338
CREATED:20190329T164353Z
LAST-MODIFIED:20190409T081823Z
UID:3479-1555632000-1555718399@pont-scorff-paroisses.fr
SUMMARY:Clébration de la Passion à 18h00 à Cléguer
DESCRIPTION:
URL:https://pont-scorff-paroisses.fr/evenement/clebration-de-la-passion-a-18h30-a-cleguer/
CATEGORIES:Célébrations,Evènement accueil
ATTACH;FMTTYPE=image/jpeg:https://pont-scorff-paroisses.fr/wp-content/uploads/2017/01/horloge.jpg
END:VEVENT
BEGIN:VEVENT
DTSTART;VALUE=DATE:20190419
DTEND;VALUE=DATE:20190420
DTSTAMP:20260423T070338
CREATED:20190329T164020Z
LAST-MODIFIED:20190329T164047Z
UID:3474-1555632000-1555718399@pont-scorff-paroisses.fr
SUMMARY:Chemin de Croix à 15h00 à la chapelle du Bas-Pont-Scorff
DESCRIPTION:
URL:https://pont-scorff-paroisses.fr/evenement/chemin-de-coix-a-15h00-a-la-chapelle-du-bas-pont-scorff/
CATEGORIES:Célébrations,Evènement accueil
ATTACH;FMTTYPE=image/jpeg:https://pont-scorff-paroisses.fr/wp-content/uploads/2017/01/horloge.jpg
END:VEVENT
BEGIN:VEVENT
DTSTART;VALUE=DATE:20190420
DTEND;VALUE=DATE:20190421
DTSTAMP:20260423T070338
CREATED:20190329T164240Z
LAST-MODIFIED:20190329T164240Z
UID:3477-1555718400-1555804799@pont-scorff-paroisses.fr
SUMMARY:Veillée Pascale à 20h00 à Cléguer
DESCRIPTION:
URL:https://pont-scorff-paroisses.fr/evenement/veillee-pascale-a-20h00-a-cleguer/
CATEGORIES:Célébrations,Evènement accueil
ATTACH;FMTTYPE=image/jpeg:https://pont-scorff-paroisses.fr/wp-content/uploads/2017/01/horloge.jpg
END:VEVENT
BEGIN:VEVENT
DTSTART;VALUE=DATE:20190421
DTEND;VALUE=DATE:20190422
DTSTAMP:20260423T070338
CREATED:20190329T163028Z
LAST-MODIFIED:20190329T163028Z
UID:3458-1555804800-1555891199@pont-scorff-paroisses.fr
SUMMARY:Messe de Pâques à 10h30 à Pont-Scorff
DESCRIPTION:
URL:https://pont-scorff-paroisses.fr/evenement/messe-de-paques-a-10h30-a-pont-scorff/
CATEGORIES:Célébrations,Evènement accueil
ATTACH;FMTTYPE=image/jpeg:https://pont-scorff-paroisses.fr/wp-content/uploads/2017/01/horloge.jpg
END:VEVENT
BEGIN:VEVENT
DTSTART;VALUE=DATE:20190424
DTEND;VALUE=DATE:20190425
DTSTAMP:20260423T070338
CREATED:20190329T163724Z
LAST-MODIFIED:20190329T163724Z
UID:3470-1556064000-1556150399@pont-scorff-paroisses.fr
SUMMARY:Messe à 18h00 à la chapelle du Bas-Pont-Scorff
DESCRIPTION:
URL:https://pont-scorff-paroisses.fr/evenement/messe-a-18h00-a-la-chapelle-du-bas-pont-scorff-25/
CATEGORIES:Célébrations,Evènement accueil
ATTACH;FMTTYPE=image/jpeg:https://pont-scorff-paroisses.fr/wp-content/uploads/2017/01/horloge.jpg
END:VEVENT
BEGIN:VEVENT
DTSTART;VALUE=DATE:20190428
DTEND;VALUE=DATE:20190429
DTSTAMP:20260423T070338
CREATED:20190329T163246Z
LAST-MODIFIED:20190329T163258Z
UID:3462-1556409600-1556495999@pont-scorff-paroisses.fr
SUMMARY:Messe à 10h30 à Cléguer
DESCRIPTION:
URL:https://pont-scorff-paroisses.fr/evenement/messe-a-10h30-a-cleguer-18/
CATEGORIES:Célébrations,Evènement accueil
ATTACH;FMTTYPE=image/jpeg:https://pont-scorff-paroisses.fr/wp-content/uploads/2017/01/horloge.jpg
END:VEVENT
END:VCALENDAR