BEGIN:VCALENDAR
VERSION:2.0
PRODID:-//Paroisses de Pont Scorff - ECPv6.6.3//NONSGML v1.0//EN
CALSCALE:GREGORIAN
METHOD:PUBLISH
X-WR-CALNAME:Paroisses de Pont Scorff
X-ORIGINAL-URL:https://pont-scorff-paroisses.fr
X-WR-CALDESC:évènements pour Paroisses de Pont Scorff
REFRESH-INTERVAL;VALUE=DURATION:PT1H
X-Robots-Tag:noindex
X-PUBLISHED-TTL:PT1H
BEGIN:VTIMEZONE
TZID:Europe/Paris
BEGIN:DAYLIGHT
TZOFFSETFROM:+0100
TZOFFSETTO:+0200
TZNAME:CEST
DTSTART:20220327T010000
END:DAYLIGHT
BEGIN:STANDARD
TZOFFSETFROM:+0200
TZOFFSETTO:+0100
TZNAME:CET
DTSTART:20221030T010000
END:STANDARD
END:VTIMEZONE
BEGIN:VEVENT
DTSTART;VALUE=DATE:20220202
DTEND;VALUE=DATE:20220203
DTSTAMP:20260419T194614
CREATED:20220111T085844Z
LAST-MODIFIED:20220111T085844Z
UID:10243-1643760000-1643846399@pont-scorff-paroisses.fr
SUMMARY:La Présentation du Seigneur (Chandeleur) - Messe à 18h00 à la chapelle du Bas-Pont-Scorff
DESCRIPTION:
URL:https://pont-scorff-paroisses.fr/evenement/la-presentation-du-seigneur-chandeleur-messe-a-18h00-a-la-chapelle-du-bas-pont-scorff/
CATEGORIES:Célébrations,Evènement accueil
ATTACH;FMTTYPE=image/jpeg:https://pont-scorff-paroisses.fr/wp-content/uploads/2020/06/Chapelle-allégé.jpg
END:VEVENT
BEGIN:VEVENT
DTSTART;VALUE=DATE:20220204
DTEND;VALUE=DATE:20220205
DTSTAMP:20260419T194614
CREATED:20220111T090034Z
LAST-MODIFIED:20220111T090034Z
UID:10245-1643932800-1644019199@pont-scorff-paroisses.fr
SUMMARY:Messe à 9h00 à Pont-Scorff
DESCRIPTION:
URL:https://pont-scorff-paroisses.fr/evenement/messe-a-9h00-a-pont-scorff-14/
CATEGORIES:Célébrations,Evènement accueil
ATTACH;FMTTYPE=image/jpeg:https://pont-scorff-paroisses.fr/wp-content/uploads/2020/06/Pont-Scorff-allégé.jpg
END:VEVENT
BEGIN:VEVENT
DTSTART;VALUE=DATE:20220206
DTEND;VALUE=DATE:20220207
DTSTAMP:20260419T194614
CREATED:20220111T090413Z
LAST-MODIFIED:20220204T094212Z
UID:10249-1644105600-1644191999@pont-scorff-paroisses.fr
SUMMARY:Messe à 10h30 à Cléguer (diffusée sur YouTube)
DESCRIPTION:Pour accéder à la diffusion de la messe\, cliquer sur le lien ci-dessous (à partir de 10h15) : \nhttps://youtu.be/qmBYJXG-l10\nPour avoir une reprise du visionnement en cas d’interruption de diffusion\,\nil est nécessaire de s’abonner à la chaîne JM H (abonnement gratuit).\nNous pouvons relancer la diffusion en quelques minutes\nmais nous ne pouvons pas mettre sur ce site un nouveau lien. \nLa messe peut être également regardée en différé (replay).
URL:https://pont-scorff-paroisses.fr/evenement/messe-a-10h30-a-cleguer-42/
CATEGORIES:Célébrations,Evènement accueil
ATTACH;FMTTYPE=image/jpeg:https://pont-scorff-paroisses.fr/wp-content/uploads/2020/09/Cléguer.jpg
END:VEVENT
BEGIN:VEVENT
DTSTART;VALUE=DATE:20220209
DTEND;VALUE=DATE:20220210
DTSTAMP:20260419T194614
CREATED:20220204T092456Z
LAST-MODIFIED:20220204T092456Z
UID:10318-1644364800-1644451199@pont-scorff-paroisses.fr
SUMMARY:Messe à 18h00 à la chapelle du Bas-Pont-Scorff
DESCRIPTION:
URL:https://pont-scorff-paroisses.fr/evenement/messe-a-18h00-a-la-chapelle-du-bas-pont-scorff-112/
CATEGORIES:Célébrations,Evènement accueil
ATTACH;FMTTYPE=image/jpeg:https://pont-scorff-paroisses.fr/wp-content/uploads/2020/06/Chapelle-allégé.jpg
END:VEVENT
BEGIN:VEVENT
DTSTART;VALUE=DATE:20220211
DTEND;VALUE=DATE:20220212
DTSTAMP:20260419T194614
CREATED:20220204T091352Z
LAST-MODIFIED:20220204T091352Z
UID:10304-1644537600-1644623999@pont-scorff-paroisses.fr
SUMMARY:Messe à 9h00 à Pont-Scorff
DESCRIPTION:
URL:https://pont-scorff-paroisses.fr/evenement/messe-a-9h00-a-pont-scorff-15/
CATEGORIES:Célébrations,Evènement accueil
ATTACH;FMTTYPE=image/jpeg:https://pont-scorff-paroisses.fr/wp-content/uploads/2020/06/Pont-Scorff-allégé.jpg
END:VEVENT
BEGIN:VEVENT
DTSTART;VALUE=DATE:20220213
DTEND;VALUE=DATE:20220214
DTSTAMP:20260419T194614
CREATED:20220111T090252Z
LAST-MODIFIED:20220210T195707Z
UID:10247-1644710400-1644796799@pont-scorff-paroisses.fr
SUMMARY:Messe à 10h30 à Pont-Scorff (diffusée sur YouTube)
DESCRIPTION:Pour accéder à la diffusion de la messe\, cliquer sur le lien ci-dessous (à partir de 10h15) : \nhttps://youtu.be/qdxZjM3qnOI\nPour avoir une reprise du visionnement en cas d’interruption de diffusion\,\nil est nécessaire de s’abonner à la chaîne JM H (abonnement gratuit).\nNous pouvons relancer la diffusion en quelques minutes\nmais nous ne pouvons pas mettre sur ce site un nouveau lien. \nLa messe peut être également regardée en différé (replay).
URL:https://pont-scorff-paroisses.fr/evenement/messe-a-10h30-a-pont-scorff-44/
CATEGORIES:Célébrations,Evènement accueil
ATTACH;FMTTYPE=image/jpeg:https://pont-scorff-paroisses.fr/wp-content/uploads/2020/06/Pont-Scorff-allégé.jpg
END:VEVENT
BEGIN:VEVENT
DTSTART;VALUE=DATE:20220216
DTEND;VALUE=DATE:20220217
DTSTAMP:20260419T194614
CREATED:20220204T085728Z
LAST-MODIFIED:20220204T085728Z
UID:10285-1644969600-1645055999@pont-scorff-paroisses.fr
SUMMARY:Messe à 18h00 à la chapelle du Bas-Pont-Scorff
DESCRIPTION:
URL:https://pont-scorff-paroisses.fr/evenement/messe-a-18h00-a-la-chapelle-du-bas-pont-scorff-108/
CATEGORIES:Célébrations,Evènement accueil
ATTACH;FMTTYPE=image/jpeg:https://pont-scorff-paroisses.fr/wp-content/uploads/2020/06/Chapelle-allégé.jpg
END:VEVENT
BEGIN:VEVENT
DTSTART;VALUE=DATE:20220218
DTEND;VALUE=DATE:20220219
DTSTAMP:20260419T194614
CREATED:20220204T091502Z
LAST-MODIFIED:20220204T091502Z
UID:10306-1645142400-1645228799@pont-scorff-paroisses.fr
SUMMARY:Messe à 9h00 à Pont-Scorff
DESCRIPTION:
URL:https://pont-scorff-paroisses.fr/evenement/messe-a-9h00-a-pont-scorff-16/
CATEGORIES:Célébrations,Evènement accueil
ATTACH;FMTTYPE=image/jpeg:https://pont-scorff-paroisses.fr/wp-content/uploads/2020/06/Pont-Scorff-allégé.jpg
END:VEVENT
BEGIN:VEVENT
DTSTART;VALUE=DATE:20220220
DTEND;VALUE=DATE:20220221
DTSTAMP:20260419T194614
CREATED:20220204T090421Z
LAST-MODIFIED:20220219T173832Z
UID:10294-1645315200-1645401599@pont-scorff-paroisses.fr
SUMMARY:Messe à 10h30 à Cléguer (diffusée sur YouTube)
DESCRIPTION:Pour accéder à la diffusion de la messe\, cliquer sur le lien ci-dessous (à partir de 10h15) : \nhttps://youtu.be/RUdmKBm6-dI\nPour avoir une reprise du visionnement en cas d’interruption de diffusion\,\nil est nécessaire de s’abonner à la chaîne JM H (abonnement gratuit).\nNous pouvons relancer la diffusion en quelques minutes\nmais nous ne pouvons pas mettre sur ce site un nouveau lien. \nLa messe peut être également regardée en différé (replay).
URL:https://pont-scorff-paroisses.fr/evenement/messe-a-10h30-a-cleguer-diffusee-sur-youtube-3/
CATEGORIES:Célébrations,Evènement accueil
ATTACH;FMTTYPE=image/jpeg:https://pont-scorff-paroisses.fr/wp-content/uploads/2020/09/Cléguer.jpg
END:VEVENT
BEGIN:VEVENT
DTSTART;VALUE=DATE:20220223
DTEND;VALUE=DATE:20220224
DTSTAMP:20260419T194614
CREATED:20220204T085856Z
LAST-MODIFIED:20220204T085856Z
UID:10287-1645574400-1645660799@pont-scorff-paroisses.fr
SUMMARY:Messe à 18h00 à la chapelle du Bas-Pont-Scorff
DESCRIPTION:
URL:https://pont-scorff-paroisses.fr/evenement/messe-a-18h00-a-la-chapelle-du-bas-pont-scorff-109/
CATEGORIES:Célébrations,Evènement accueil
ATTACH;FMTTYPE=image/jpeg:https://pont-scorff-paroisses.fr/wp-content/uploads/2020/06/Chapelle-allégé.jpg
END:VEVENT
BEGIN:VEVENT
DTSTART;VALUE=DATE:20220225
DTEND;VALUE=DATE:20220226
DTSTAMP:20260419T194614
CREATED:20220204T091611Z
LAST-MODIFIED:20220204T091611Z
UID:10308-1645747200-1645833599@pont-scorff-paroisses.fr
SUMMARY:Messe à 9h00 à Pont-Scorff
DESCRIPTION:
URL:https://pont-scorff-paroisses.fr/evenement/messe-a-9h00-a-pont-scorff-17/
CATEGORIES:Célébrations,Evènement accueil
ATTACH;FMTTYPE=image/jpeg:https://pont-scorff-paroisses.fr/wp-content/uploads/2020/06/Pont-Scorff-allégé.jpg
END:VEVENT
BEGIN:VEVENT
DTSTART;VALUE=DATE:20220227
DTEND;VALUE=DATE:20220228
DTSTAMP:20260419T194614
CREATED:20220204T090614Z
LAST-MODIFIED:20220224T113705Z
UID:10296-1645920000-1646006399@pont-scorff-paroisses.fr
SUMMARY:Messe avec célébration de l'Onction des Malades\, à 10h30 à Pont-Scorff (diffusée sur YouTube)
DESCRIPTION:Pour accéder à la diffusion de la messe\, cliquer sur le lien ci-dessous (à partir de 10h15) : \nhttps://youtu.be/qXFKDDQxRCw\nPour avoir une reprise du visionnement en cas d’interruption de diffusion\,\nil est nécessaire de s’abonner à la chaîne JM H (abonnement gratuit).\nNous pouvons relancer la diffusion en quelques minutes\nmais nous ne pouvons pas mettre sur ce site un nouveau lien. \nLa messe peut être également regardée en différé (replay).
URL:https://pont-scorff-paroisses.fr/evenement/messe-avec-celebration-de-lonction-des-malades-a-10h30-a-pont-scorff-diffusee-sur-youtube/
CATEGORIES:Célébrations,Evènement accueil
ATTACH;FMTTYPE=image/jpeg:https://pont-scorff-paroisses.fr/wp-content/uploads/2020/06/Pont-Scorff-allégé.jpg
END:VEVENT
END:VCALENDAR