BEGIN:VCALENDAR
VERSION:2.0
PRODID:-//Paroisses de Pont Scorff - ECPv6.6.3//NONSGML v1.0//EN
CALSCALE:GREGORIAN
METHOD:PUBLISH
X-ORIGINAL-URL:https://pont-scorff-paroisses.fr
X-WR-CALDESC:évènements pour Paroisses de Pont Scorff
REFRESH-INTERVAL;VALUE=DURATION:PT1H
X-Robots-Tag:noindex
X-PUBLISHED-TTL:PT1H
BEGIN:VTIMEZONE
TZID:Europe/Paris
BEGIN:DAYLIGHT
TZOFFSETFROM:+0100
TZOFFSETTO:+0200
TZNAME:CEST
DTSTART:20260329T010000
END:DAYLIGHT
BEGIN:STANDARD
TZOFFSETFROM:+0200
TZOFFSETTO:+0100
TZNAME:CET
DTSTART:20261025T010000
END:STANDARD
END:VTIMEZONE
BEGIN:VEVENT
DTSTART;VALUE=DATE:20260501
DTEND;VALUE=DATE:20260502
DTSTAMP:20260425T164800
CREATED:20260417T142406Z
LAST-MODIFIED:20260417T142406Z
UID:13560-1777593600-1777679999@pont-scorff-paroisses.fr
SUMMARY:PAS de messe
DESCRIPTION:
URL:https://pont-scorff-paroisses.fr/evenement/pas-de-messe-3/
CATEGORIES:Célébrations,Evènement accueil
ATTACH;FMTTYPE=image/jpeg:https://pont-scorff-paroisses.fr/wp-content/uploads/2017/01/rosace.jpg
END:VEVENT
BEGIN:VEVENT
DTSTART;VALUE=DATE:20260503
DTEND;VALUE=DATE:20260504
DTSTAMP:20260425T164800
CREATED:20260417T142550Z
LAST-MODIFIED:20260417T143600Z
UID:13562-1777766400-1777852799@pont-scorff-paroisses.fr
SUMMARY:Messe à 10h30 à Pont-Scorff  (diffusée sur You Tube)
DESCRIPTION:Pour accéder à la diffusion de la messe\, cliquer sur le lien ci-dessous : \n\nL’accès au site Internet de la paroisse de Pont-Scorff/Cléguer peut être parfois difficile\nou même impossible\, du fait de problème du serveur\, ce qui est indépendant de notre volonté\net nous ne pouvons pas intervenir directement nous-mêmes. \nIl peut également arriver que la diffusion de la messe soit interrompue.\nNous pouvons éventuellement relancer l’émission\nmais nous ne pouvons pas générer un nouveau lien. \nAfin de pouvoir accéder à la diffusion de la messe à Pont-Scorff ou Cléguer\n(sous réserve qu’il n’y ait pas de problème de réseau)\nil est souhaitable de s’abonner à la chaîne JM H (abonnement gratuit).\nPour cela il faut cliquer sur la case « S’abonner » lorsque vous êtes sur la chaîne en question. \nPour bénéficier ensuite de la diffusion de la messe\, il faut ouvrir YouTube\npuis ouvrir la rubrique « Abonnements »\net vous pouvez accéder à la chaîne JM H  et à la messe souhaitée.
URL:https://pont-scorff-paroisses.fr/evenement/messe-a-10h30-a-cleguer-diffusee-sur-you-tube-2/
CATEGORIES:Célébrations,Evènement accueil
ATTACH;FMTTYPE=image/jpeg:https://pont-scorff-paroisses.fr/wp-content/uploads/2020/06/Pont-Scorff-allégé.jpg
END:VEVENT
BEGIN:VEVENT
DTSTART;VALUE=DATE:20260506
DTEND;VALUE=DATE:20260507
DTSTAMP:20260425T164800
CREATED:20260417T142735Z
LAST-MODIFIED:20260417T142735Z
UID:13564-1778025600-1778111999@pont-scorff-paroisses.fr
SUMMARY:Messe à 18h00 à la chapelle du Bas-Pont-Scorff
DESCRIPTION:
URL:https://pont-scorff-paroisses.fr/evenement/messe-a-18h00-a-la-chapelle-du-bas-pont-scorff-290/
CATEGORIES:Célébrations,Evènement accueil
ATTACH;FMTTYPE=image/jpeg:https://pont-scorff-paroisses.fr/wp-content/uploads/2020/06/Chapelle-allégé.jpg
END:VEVENT
BEGIN:VEVENT
DTSTART;VALUE=DATE:20260508
DTEND;VALUE=DATE:20260509
DTSTAMP:20260425T164800
CREATED:20260417T142946Z
LAST-MODIFIED:20260417T143024Z
UID:13566-1778198400-1778284799@pont-scorff-paroisses.fr
SUMMARY:Messe des Anciens Combattants à 10h00 à Pont-Scorff  (PAS de messe à 9h00 au presbytère)
DESCRIPTION:
URL:https://pont-scorff-paroisses.fr/evenement/messe-des-anciens-combattants-a-10h00-a-pont-scorff-6/
CATEGORIES:Célébrations,Evènement accueil
ATTACH;FMTTYPE=image/jpeg:https://pont-scorff-paroisses.fr/wp-content/uploads/2020/06/Pont-Scorff-allégé.jpg
END:VEVENT
BEGIN:VEVENT
DTSTART;VALUE=DATE:20260510
DTEND;VALUE=DATE:20260511
DTSTAMP:20260425T164800
CREATED:20260417T143245Z
LAST-MODIFIED:20260417T143305Z
UID:13569-1778371200-1778457599@pont-scorff-paroisses.fr
SUMMARY:Messe à 10h30 à Cléguer (diffusée sur You Tube)
DESCRIPTION:Pour accéder à la diffusion de la messe\, cliquer sur le lien ci-dessous : \n\nL’accès au site Internet de la paroisse de Pont-Scorff/Cléguer peut être parfois difficile\nou même impossible\, du fait de problème du serveur\, ce qui est indépendant de notre volonté\net nous ne pouvons pas intervenir directement nous-mêmes. \nIl peut également arriver que la diffusion de la messe soit interrompue.\nNous pouvons éventuellement relancer l’émission\nmais nous ne pouvons pas générer un nouveau lien. \nAfin de pouvoir accéder à la diffusion de la messe à Pont-Scorff ou Cléguer\n(sous réserve qu’il n’y ait pas de problème de réseau)\nil est souhaitable de s’abonner à la chaîne JM H (abonnement gratuit).\nPour cela il faut cliquer sur la case « S’abonner » lorsque vous êtes sur la chaîne en question. \nPour bénéficier ensuite de la diffusion de la messe\, il faut ouvrir YouTube\npuis ouvrir la rubrique « Abonnements »\net vous pouvez accéder à la chaîne JM H  et à la messe souhaitée.
URL:https://pont-scorff-paroisses.fr/evenement/messe-a-10h30-a-pont-scorff-diffusee-sur-you-tube/
CATEGORIES:Célébrations,Evènement accueil
ATTACH;FMTTYPE=image/jpeg:https://pont-scorff-paroisses.fr/wp-content/uploads/2020/09/Cléguer.jpg
END:VEVENT
BEGIN:VEVENT
DTSTART;VALUE=DATE:20260513
DTEND;VALUE=DATE:20260514
DTSTAMP:20260425T164800
CREATED:20260421T192042Z
LAST-MODIFIED:20260421T192042Z
UID:13595-1778630400-1778716799@pont-scorff-paroisses.fr
SUMMARY:Messe à 18h00 à la chapelle du Bas-Pont-Scorff
DESCRIPTION:
URL:https://pont-scorff-paroisses.fr/evenement/messe-a-18h00-a-la-chapelle-du-bas-pont-scorff-291/
CATEGORIES:Célébrations,Evènement accueil
ATTACH;FMTTYPE=image/jpeg:https://pont-scorff-paroisses.fr/wp-content/uploads/2020/06/Chapelle-allégé.jpg
END:VEVENT
BEGIN:VEVENT
DTSTART;VALUE=DATE:20260515
DTEND;VALUE=DATE:20260516
DTSTAMP:20260425T164800
CREATED:20260421T192253Z
LAST-MODIFIED:20260421T192314Z
UID:13597-1778803200-1778889599@pont-scorff-paroisses.fr
SUMMARY:Messe à 9h00 au presbytère de Pont-Scorff
DESCRIPTION:
URL:https://pont-scorff-paroisses.fr/evenement/messe-a-9h00-au-presbytere-de-pont-scorff-151/
ATTACH;FMTTYPE=image/jpeg:https://pont-scorff-paroisses.fr/wp-content/uploads/2018/04/02-Façade-2017.jpg
END:VEVENT
END:VCALENDAR